{"text_format":"1","workbook":"xlsx","n_sheets":4,"sheets":["Relació de despeses","Relació d'ingressos ","Resum estat despeses-ingressos","Full1"],"not_rendered":{"charts":0,"images":1,"macros":1,"external_links":0,"defined_names":7,"comments":3,"pivot_tables":0},"unopened":[],"bounds":{"document_bytes":16777216,"sheet_cells":100000,"rows_first":2000,"rows_last":500,"rows_between":2000,"halvings":0,"cell_chars":16384,"cell_head_chars":4096},"cells_cut":0,"cells_raw":0,"read":"whole","date_system":"1900"}

{"sheet":"Relació de despeses","index":0,"n_rows":118,"n_cols":12,"rows_kept":118,"cut":false,"hidden":false,"merged":[[34,0,34,8],[6,0,6,4],[48,0,48,8],[66,11,66,12],[2,6,2,8],[3,6,3,8],[3,0,3,1],[67,11,67,12],[0,0,0,12],[4,0,4,1],[2,2,2,3],[3,2,3,3],[4,2,4,3],[10,11,10,12],[2,0,2,1],[48,11,48,12],[47,11,47,12],[46,11,46,12],[45,11,45,12],[44,11,44,12],[7,2,8,2],[11,11,11,12],[2,9,2,10],[3,9,3,10],[4,9,4,10],[25,0,25,8],[43,11,43,12],[41,11,41,12],[85,11,85,12],[64,11,64,12],[75,11,75,12],[74,11,74,12],[65,11,65,12],[50,11,50,12],[62,11,62,12],[61,11,61,12],[33,11,33,12],[31,11,31,12],[12,11,12,12],[35,0,35,12],[15,11,15,12],[102,11,102,12],[68,11,68,12],[99,11,99,12],[97,0,97,8],[84,11,84,12],[77,11,77,12],[78,11,78,12],[70,0,70,12],[91,0,91,12],[82,11,82,12],[96,11,96,12],[97,11,97,12],[93,11,93,12],[41,0,41,8],[49,0,49,12],[53,11,53,12],[52,11,52,12],[51,11,51,12],[42,0,42,12],[56,0,56,12],[28,11,28,12],[27,11,27,12],[30,11,30,12],[29,11,29,12],[7,3,7,4],[81,0,81,12],[76,0,76,12],[86,0,86,12],[63,0,63,12],[7,1,8,1],[7,0,8,0],[8,11,8,12],[9,0,9,12],[60,11,60,12],[59,11,59,12],[58,11,58,12],[57,11,57,12],[55,11,55,12],[54,11,54,12],[79,11,79,12],[80,11,80,12],[26,0,26,12],[34,11,34,12],[4,5,4,8],[55,0,55,8],[62,0,62,8],[69,0,69,8],[75,0,75,8],[80,0,80,8],[85,0,85,8],[90,0,90,8],[73,11,73,12],[72,11,72,12],[7,11,7,12],[87,11,87,12],[88,11,88,12],[89,11,89,12],[69,11,69,12],[36,11,36,12],[14,11,14,12],[13,11,13,12],[25,11,25,12],[40,11,40,12],[39,11,39,12],[38,11,38,12],[37,11,37,12],[24,11,24,12],[117,0,117,12],[116,0,116,12],[114,0,114,12],[115,0,115,12],[113,0,113,12],[106,0,106,12],[107,0,107,12],[90,11,90,12],[83,11,83,12],[103,11,103,12],[104,11,104,12],[104,0,104,5],[100,11,100,12],[98,0,98,12],[92,11,92,12],[103,0,103,8]]}
["Relació classificada de totes les despeses realitzades per a l'execució de l'activitat  subvencionada"]
[]
["Persona física/jurídica beneficiària:         ",null,null,null,null,null,"Import total del projecte:",null,null,null,null,"euros"]
["Codi de subvenció:",null,null,null,null,null,"Import de la subvenció atorgada:",null,null,null,null,"euros"]
["Nom del projecte subvencionat:",null,null,null,null,"Període d'execució del projecte subvencionat:",null,null,null,null,null,"a"]
[]
["Despeses del projecte/activitat/servei subvencionat (*)"]
["núm. d'ordre ","número de document: justificants despesa personal (1), factura o rebut/tiquet(2)","Concepte de la factura / \ndocument probatori equivalent","Emissor de la factura",null,"data d'emissió","Import total de la factura","Percentatge d'iva deduït o el de després d'aplicar la Prorrata","Import després de deduïr l'IVA corresponent","Import imputable (dedicat) al projecte (3)","Import imputable a la subvenció municipal (4)","Observacions"]
[null,null,null,"NIF","Nom","dd/mm/aaaa","euros","%","euros","euros","euros","(2)"]
["A. Recursos Humans (retribucions brutes i Seguretat Social del personal fix o eventual contractat)"]
[{"$f":"IF(B11<>\"\",1,\"\")","v":""}]
[{"$f":"IF(B12<>\"\",MAX($A$11:A11)+1,\"\")","v":""}]
[{"$f":"IF(B13<>\"\",MAX($A$11:A12)+1,\"\")","v":""}]
[{"$f":"IF(B14<>\"\",MAX($A$11:A13)+1,\"\")","v":""}]
[{"$f":"IF(B15<>\"\",MAX($A$11:A14)+1,\"\")","v":""}]
[{"$f":"IF(B16<>\"\",MAX($A$11:A15)+1,\"\")","v":""}]
[{"$f":"IF(B17<>\"\",MAX($A$11:A16)+1,\"\")","v":""}]
[{"$f":"IF(B18<>\"\",MAX($A$11:A17)+1,\"\")","v":""}]
[{"$f":"IF(B19<>\"\",MAX($A$11:A18)+1,\"\")","v":""}]
[{"$f":"IF(B20<>\"\",MAX($A$11:A19)+1,\"\")","v":""}]
[{"$f":"IF(B21<>\"\",MAX($A$11:A20)+1,\"\")","v":""}]
[{"$f":"IF(B22<>\"\",MAX($A$11:A21)+1,\"\")","v":""}]
[{"$f":"IF(B23<>\"\",MAX($A$11:A22)+1,\"\")","v":""}]
[{"$f":"IF(B24<>\"\",MAX($A$11:A23)+1,\"\")","v":""}]
[{"$f":"IF(B25<>\"\",MAX($A$11:A24)+1,\"\")","v":""}]
["Subtotal A",null,null,null,null,null,null,null,null,{"$f":"SUM(J11:J25)","v":0},{"$f":"SUM(K11:K25)","v":0}]
["B. Lloguers (materials, infraestructures, locals, etc.)"]
[{"$f":"IF(B28<>\"\",MAX($A$11:A27)+1,\"\")","v":""}]
[{"$f":"IF(B29<>\"\",MAX($A$27:A28)+1,\"\")","v":""}]
[{"$f":"IF(B30<>\"\",MAX($A$27:A29)+1,\"\")","v":""}]
[{"$f":"IF(B31<>\"\",MAX($A$27:A30)+1,\"\")","v":""}]
[{"$f":"IF(B32<>\"\",MAX($A$27:A31)+1,\"\")","v":""}]
[{"$f":"IF(B33<>\"\",MAX($A$27:A32)+1,\"\")","v":""}]
[{"$f":"IF(B34<>\"\",MAX($A$27:A33)+1,\"\")","v":""}]
["Subtotal B",null,null,null,null,null,null,null,null,{"$f":"SUM(J28:J34)","v":0},{"$f":"SUM(K28:K34)","v":0}]
["C. Subministraments (llum, aigua, gas, etc.)"]
[{"$f":"IF(B37<>\"\",MAX($A$11:A36)+1,\"\")","v":""}]
[{"$f":"IF(B38<>\"\",MAX($A$27:A37)+1,\"\")","v":""}]
[{"$f":"IF(B39<>\"\",MAX($A$27:A38)+1,\"\")","v":""}]
[{"$f":"IF(B40<>\"\",MAX($A$27:A39)+1,\"\")","v":""}]
[{"$f":"IF(B41<>\"\",MAX($A$27:A40)+1,\"\")","v":""}]
["Subtotal C",null,null,null,null,null,null,null,null,{"$f":"SUM(J37:J41)","v":0},{"$f":"SUM(K37:K41)","v":0}]
["D. Comunicacions (telèfon, correu, etc.)"]
[{"$f":"IF(B44<>\"\",MAX($A$11:A43)+1,\"\")","v":""}]
[{"$f":"IF(B45<>\"\",MAX($A$27:A44)+1,\"\")","v":""}]
[{"$f":"IF(B46<>\"\",MAX($A$27:A45)+1,\"\")","v":""}]
[{"$f":"IF(B47<>\"\",MAX($A$27:A46)+1,\"\")","v":""}]
[{"$f":"IF(B48<>\"\",MAX($A$27:A47)+1,\"\")","v":""}]
["Subtotal D",null,null,null,null,null,null,null,null,{"$f":"SUM(J44:J48)","v":0},{"$f":"SUM(K44:K48)","v":0}]
["E. Manteniment d'edificis i/o instal·lacions"]
[{"$f":"IF(B51<>\"\",MAX($A$11:A50)+1,\"\")","v":""}]
[{"$f":"IF(B52<>\"\",MAX($A$27:A51)+1,\"\")","v":""}]
[{"$f":"IF(B53<>\"\",MAX($A$27:A52)+1,\"\")","v":""}]
[{"$f":"IF(B54<>\"\",MAX($A$27:A53)+1,\"\")","v":""}]
[{"$f":"IF(B55<>\"\",MAX($A$27:A54)+1,\"\")","v":""}]
["Subtotal E",null,null,null,null,null,null,null,null,{"$f":"SUM(J51:J55)","v":0},{"$f":"SUM(K51:K55)","v":0}]
["F. Adquisició de material fungible (d'oficina, etc.)"]
[{"$f":"IF(B58<>\"\",MAX($A$11:A57)+1,\"\")","v":""}]
[{"$f":"IF(B59<>\"\",MAX($A$27:A58)+1,\"\")","v":""}]
[{"$f":"IF(B60<>\"\",MAX($A$27:A59)+1,\"\")","v":""}]
[{"$f":"IF(B61<>\"\",MAX($A$27:A60)+1,\"\")","v":""}]
[{"$f":"IF(B62<>\"\",MAX($A$27:A61)+1,\"\")","v":""}]
["Subtotal F",null,null,null,null,null,null,null,null,{"$f":"SUM(J58:J62)","v":0},{"$f":"SUM(K58:K62)","v":0}]
["G. Transport - Missatgeria"]
[{"$f":"IF(B65<>\"\",MAX($A$11:A64)+1,\"\")","v":""}]
[{"$f":"IF(B66<>\"\",MAX($A$27:A65)+1,\"\")","v":""}]
[{"$f":"IF(B67<>\"\",MAX($A$27:A66)+1,\"\")","v":""}]
[{"$f":"IF(B68<>\"\",MAX($A$27:A67)+1,\"\")","v":""}]
[{"$f":"IF(B69<>\"\",MAX($A$27:A68)+1,\"\")","v":""}]
["Subtotal G",null,null,null,null,null,null,null,null,{"$f":"SUM(J65:J69)","v":0},{"$f":"SUM(K65:K69)","v":0}]
["H. Publicitat i Propaganda"]
[{"$f":"IF(B72<>\"\",MAX($A$11:A71)+1,\"\")","v":""}]
[{"$f":"IF(B73<>\"\",MAX($A$27:A72)+1,\"\")","v":""}]
[{"$f":"IF(B74<>\"\",MAX($A$27:A73)+1,\"\")","v":""}]
[{"$f":"IF(B75<>\"\",MAX($A$27:A74)+1,\"\")","v":""}]
["Subtotal H",null,null,null,null,null,null,null,null,{"$f":"SUM(J72:J75)","v":0},{"$f":"SUM(K72:K75)","v":0}]
["I. Assegurances"]
[{"$f":"IF(B78<>\"\",MAX($A$11:A77)+1,\"\")","v":""}]
[{"$f":"IF(B79<>\"\",MAX($A$27:A78)+1,\"\")","v":""}]
[{"$f":"IF(B80<>\"\",MAX($A$27:A79)+1,\"\")","v":""}]
["Subtotal I",null,null,null,null,null,null,null,null,{"$f":"SUM(J78:J80)","v":0},{"$f":"SUM(K78:K80)","v":0}]
["J. Allotjament i dietes (2)"]
[{"$f":"IF(B83<>\"\",MAX($A$11:A82)+1,\"\")","v":""}]
[{"$f":"IF(B84<>\"\",MAX($A$27:A83)+1,\"\")","v":""}]
[{"$f":"IF(B85<>\"\",MAX($A$27:A84)+1,\"\")","v":""}]
["Subtotal J",null,null,null,null,null,null,null,null,{"$f":"SUM(J83:J85)","v":0},{"$f":"SUM(K83:K85)","v":0}]
["K. Viatges i desplaçaments (2)"]
[{"$f":"IF(B88<>\"\",MAX($A$11:A87)+1,\"\")","v":""}]
[{"$f":"IF(B89<>\"\",MAX($A$27:A88)+1,\"\")","v":""}]
[{"$f":"IF(B90<>\"\",MAX($A$27:A89)+1,\"\")","v":""}]
["Subtotal K",null,null,null,null,null,null,null,null,{"$f":"SUM(J88:J90)","v":0},{"$f":"SUM(K88:K90)","v":0}]
["L. Treballs realitzats per empreses externes (neteja, seguretat, altres treballs directament relacionats amb l'activitat i/o projecte)"]
[{"$f":"IF(B93<>\"\",MAX($A$11:A92)+1,\"\")","v":""}]
[{"$f":"IF(B94<>\"\",MAX($A$27:A93)+1,\"\")","v":""}]
[{"$f":"IF(B95<>\"\",MAX($A$27:A94)+1,\"\")","v":""}]
[{"$f":"IF(B96<>\"\",MAX($A$27:A95)+1,\"\")","v":""}]
[{"$f":"IF(B97<>\"\",MAX($A$27:A96)+1,\"\")","v":""}]
["Subtotal L",null,null,null,null,null,null,null,null,{"$f":"SUM(J93:J97)","v":0},{"$f":"SUM(K93:K97)","v":0}]
["M. Altres despeses (a especificar)"]
[{"$f":"IF(B100<>\"\",MAX($A$11:A99)+1,\"\")","v":""}]
[{"$f":"IF(B101<>\"\",MAX($A$27:A100)+1,\"\")","v":""}]
[{"$f":"IF(B102<>\"\",MAX($A$27:A101)+1,\"\")","v":""}]
[{"$f":"IF(B103<>\"\",MAX($A$27:A102)+1,\"\")","v":""}]
["Subtotal M",null,null,null,null,null,null,null,null,{"$f":"SUM(J100:J103)","v":0},{"$f":"SUM(K100:K103)","v":0}]
["TOTAL DESPESES",null,null,null,null,null,"TOTAL",null,null,{"$f":"+J26+J35+J42+J49+J56+J63+J70+J76+J81+J86+J91+J98+J104","v":0},{"$f":"+K26+K35+K42+K49+K56+K63+K70+K76+K81+K86+K91+K98+K104","v":0}]
[]
["El Sr./Sra. (indicar el nom i cognoms de la persona representant que signa la justificació)  amb DNI/NIE (indicar el núm. DNI) en qualitat de persona física beneficiària o representant legal de la persona jurídica beneficiària (indicar nom) amb NIF (indicar núm DNI)."]
["CERTIFICA que els rebuts/tiquets que s'han identificat com a tals en el camp d'observacions corresponen a despeses generades per l'esmentada activitat, que pels seus imports i característiques no han pogut ser objecte de factura; que els justificants relacionats imputats al projecte/activitat/servei subvencionat durant el seu període d'execució han estat efectivament pagats; que custodiarà la documentació suport que ho acredita; que aquesta documentació es troba a disposició de l'Ajuntament de Barcelona o dels altres ens municipals en els arxius d'aquesta Entitat, durant un període mínim de 4 anys a comptar des de la data de presentació de la present justificació."]
[]
[]
[null,"Població i data: ",null,null,null,"Signat digitalment"]
[]
["Notes:"]
["(*) S'han de relacionar totes les despeses del projecte/activitat/servei subvencionat. En el cas que el nombre de files de cada concepte sigui insuficient podeu inserir línies dins del mateix concepte seleccionant una cel·la verda i fent clic sobre el botó d'inserir línia."]
["(1) Respecte a les despeses de recursos humans, pot ser subvencionable el cost total salarial mensual, que correspon a la suma de la retribució bruta que apareix a la nòmina del treballador/a més la quota de l'empresa a la Seg. Social. Les despeses de personal es justifiquen amb la nòmina del treballador acompanyada dels corresponents RNT i RLC de la TGSS i el model 111 de l'IRPF."]
["(2) En el cas que el document justificatiu de la resta de despeses, no sigui una factura, sinó un altre document probatori equivalent, com un rebut o justificant (com per dietes o transport públic), indiqueu-lo en el camp d'observacions."]
["(3) En el cas que un justificant inclogui conceptes que no tenen a veure amb el projecte/activitat/servei per al qual s'ha atorgat la subvenció, aquí només s'ha d'indicar la part que realment s'ha dedicat al projecte."]
["(4) En aquesta columna s'ha d'indicar l'import total o parcial de la factura  que s'imputa a la subvenció rebuda de l'Ajuntament de Barcelona/IBE/ICUB/IMPD/IMSS. El total imputat, en aquesta columna, ha de ser igual  a l'import de la subvenció rebuda."]

{"sheet":"Relació d'ingressos ","index":1,"n_rows":92,"n_cols":10,"rows_kept":92,"cut":false,"hidden":false,"merged":[[89,1,89,6],[80,6,80,9],[76,6,76,9],[74,6,74,9],[85,0,85,9],[86,2,86,3],[86,6,86,7],[71,6,71,9],[82,6,82,9],[82,0,82,3],[81,0,81,3],[84,0,84,9],[81,6,81,9],[62,0,62,9],[69,0,69,9],[58,6,58,9],[68,6,68,9],[70,6,70,9],[68,0,68,3],[61,0,61,3],[59,6,59,9],[67,6,67,9],[65,6,65,9],[64,6,64,9],[63,6,63,9],[41,6,41,9],[40,6,40,9],[53,6,53,9],[52,6,52,9],[51,6,51,9],[49,6,49,9],[48,6,48,9],[47,6,47,9],[46,6,46,9],[22,6,22,9],[21,6,21,9],[20,6,20,9],[19,6,19,9],[18,6,18,9],[0,0,0,9],[9,0,9,9],[17,0,17,9],[24,0,24,9],[7,6,8,9],[10,6,10,9],[11,6,11,9],[7,0,8,0],[12,6,12,9],[15,6,15,9],[3,2,3,3],[2,2,2,3],[6,0,6,3],[4,2,4,3],[7,2,7,3],[7,1,8,1],[16,0,16,3],[53,0,53,3],[31,0,31,9],[39,0,39,9],[45,0,45,9],[44,0,44,3],[38,0,38,3],[16,6,16,9],[23,6,23,9],[33,6,33,9],[32,6,32,9],[44,6,44,9],[43,6,43,9],[34,6,34,9],[38,6,38,9],[37,6,37,9],[57,6,57,9],[30,0,30,3],[61,6,61,9],[60,6,60,9],[23,0,23,3],[54,0,54,9],[56,6,56,9],[55,6,55,9],[36,6,36,9],[35,6,35,9],[30,6,30,9],[29,6,29,9],[27,6,27,9],[26,6,26,9],[25,6,25,9],[42,6,42,9]]}
["Detall de tots els ingressos obtinguts i aportacions del propi beneficiari per a l'execució de l'activitat subvencionada"]
[]
[null,"Nom de la persona física/jurídica beneficiària:        ",{"$f":"IF('Relació de despeses'!C3:D3<>\"\",'Relació de despeses'!C3:D3,\"\")","v":""},null,"Import total del projecte :",null,null,{"$f":"IF(+'Relació de despeses'!J3=\"\",\"\",+'Relació de despeses'!J3)","v":""},"euros"]
[null,"Codi de subvenció",{"$f":"IF('Relació de despeses'!C4:D4<>\"\",'Relació de despeses'!C4:D4,\"\")","v":""},null,"Import de la subvenció atorgada:",null,null,{"$f":"IF(+'Relació de despeses'!J4=\"\",\"\",+'Relació de despeses'!J4)","v":""},"euros"]
[null,"Nom del projecte subvencionat",{"$f":"IF('Relació de despeses'!C5:D5<>\"\",'Relació de despeses'!C5:D5,\"\")","v":""},null,"Període d'execució del projecte subvencionat:",null,null,{"$f":"IF(+'Relació de despeses'!J5=\"\",\"\",+'Relació de despeses'!J5)","v":""},"a",{"$f":"IF(+'Relació de despeses'!M5=\"\",\"\",+'Relació de despeses'!M5)","v":""}]
[]
["Ingressos del projecte/activitat/servei subvencionat"]
["núm. d'ordre","Concepte de l'ingrés","Emissor de l'ingrés",null,"Data de cobrament\n(dd/mm/aaaa)","Import","Observacions"]
[null,null,"NIF","Nom","(1)","euros"]
["A.B. Subvencions de l'Ajuntament de Barcelona "]
[{"$f":"IF(B11<>\"\",1,\"\")","v":""}]
[]
[]
[]
[{"$f":"IF(B15<>\"\",MAX($A$10:A14)+1,\"\")","v":""}]
[{"$f":"IF(B16<>\"\",MAX($A$10:A15)+1,\"\")","v":""}]
[null,null,null,null,"Subtotal A",{"$f":"SUM(F11:F16)","v":0}]
["C. Subvencions d'altres administracions"]
[{"$f":"IF(B19<>\"\",MAX($A$10:A18)+1,\"\")","v":""}]
[{"$f":"IF(B20<>\"\",MAX($A$10:A19)+1,\"\")","v":""}]
[{"$f":"IF(B21<>\"\",MAX($A$10:A20)+1,\"\")","v":""}]
[{"$f":"IF(B22<>\"\",MAX($A$10:A21)+1,\"\")","v":""}]
[{"$f":"IF(B23<>\"\",MAX($A$10:A22)+1,\"\")","v":""}]
[null,null,null,null,"Subtotal B",{"$f":"SUM(F19:F23)","v":0}]
["D. Aportacions d'ens privats"]
[{"$f":"IF(B26<>\"\",MAX($A$10:A25)+1,\"\")","v":""}]
[{"$f":"IF(B27<>\"\",MAX($A$10:A26)+1,\"\")","v":""}]
[{"$f":"IF(B28<>\"\",MAX($A$10:A27)+1,\"\")","v":""}]
[{"$f":"IF(B29<>\"\",MAX($A$10:A28)+1,\"\")","v":""}]
[{"$f":"IF(B30<>\"\",MAX($A$10:A29)+1,\"\")","v":""}]
[null,null,null,null,"Subtotal C",{"$f":"SUM(F26:F30)","v":0}]
["E. Recursos propis"]
[{"$f":"IF(B33<>\"\",MAX($A$10:A32)+1,\"\")","v":""}]
[{"$f":"IF(B34<>\"\",MAX($A$10:A33)+1,\"\")","v":""}]
[{"$f":"IF(B35<>\"\",MAX($A$10:A34)+1,\"\")","v":""}]
[{"$f":"IF(B36<>\"\",MAX($A$10:A35)+1,\"\")","v":""}]
[{"$f":"IF(B37<>\"\",MAX($A$10:A36)+1,\"\")","v":""}]
[{"$f":"IF(B38<>\"\",MAX($A$10:A37)+1,\"\")","v":""}]
[null,null,null,null,"Subtotal D",{"$f":"SUM(F33:F38)","v":0}]
["F. Taquillatge"]
[{"$f":"IF(B41<>\"\",MAX($A$10:A40)+1,\"\")","v":""}]
[{"$f":"IF(B42<>\"\",MAX($A$10:A41)+1,\"\")","v":""}]
[{"$f":"IF(B43<>\"\",MAX($A$10:A42)+1,\"\")","v":""}]
[{"$f":"IF(B44<>\"\",MAX($A$10:A43)+1,\"\")","v":""}]
[null,null,null,null,"Subtotal E",{"$f":"SUM(F41:F44)","v":0}]
["G. Quotes d'inscripció"]
[{"$f":"IF(B47<>\"\",MAX($A$10:A46)+1,\"\")","v":""}]
[{"$f":"IF(B48<>\"\",MAX($A$10:A47)+1,\"\")","v":""}]
[{"$f":"IF(B49<>\"\",MAX($A$10:A48)+1,\"\")","v":""}]
[{"$f":"IF(B50<>\"\",MAX($A$10:A49)+1,\"\")","v":""}]
[{"$f":"IF(B51<>\"\",MAX($A$10:A50)+1,\"\")","v":""}]
[{"$f":"IF(B52<>\"\",MAX($A$10:A51)+1,\"\")","v":""}]
[{"$f":"IF(B53<>\"\",MAX($A$10:A52)+1,\"\")","v":""}]
[null,null,null,null,"Subtotal F",{"$f":"SUM(F47:F53)","v":0}]
["H. Venda de Productes"]
[{"$f":"IF(B56<>\"\",MAX($A$10:A55)+1,\"\")","v":""}]
[{"$f":"IF(B57<>\"\",MAX($A$10:A56)+1,\"\")","v":""}]
[{"$f":"IF(B58<>\"\",MAX($A$10:A57)+1,\"\")","v":""}]
[{"$f":"IF(B59<>\"\",MAX($A$10:A58)+1,\"\")","v":""}]
[{"$f":"IF(B60<>\"\",MAX($A$10:A59)+1,\"\")","v":""}]
[{"$f":"IF(B61<>\"\",MAX($A$10:A60)+1,\"\")","v":""}]
[null,null,null,null,"Subtotal G",{"$f":"SUM(F56:F61)","v":0}]
["I. Publicitat i/o Esponsorització"]
[{"$f":"IF(B64<>\"\",MAX($A$10:A63)+1,\"\")","v":""}]
[{"$f":"IF(B65<>\"\",MAX($A$10:A64)+1,\"\")","v":""}]
[{"$f":"IF(B66<>\"\",MAX($A$10:A65)+1,\"\")","v":""}]
[{"$f":"IF(B67<>\"\",MAX($A$10:A66)+1,\"\")","v":""}]
[{"$f":"IF(B68<>\"\",MAX($A$10:A67)+1,\"\")","v":""}]
[null,null,null,null,"Subtotal H",{"$f":"SUM(F64:F68)","v":0}]
["J. Altres ingressos"]
[{"$f":"IF(B71<>\"\",MAX($A$10:A70)+1,\"\")","v":""}]
[{"$f":"IF(B72<>\"\",MAX($A$10:A71)+1,\"\")","v":""}]
[{"$f":"IF(B73<>\"\",MAX($A$10:A72)+1,\"\")","v":""}]
[{"$f":"IF(B74<>\"\",MAX($A$10:A73)+1,\"\")","v":""}]
[{"$f":"IF(B75<>\"\",MAX($A$10:A74)+1,\"\")","v":""}]
[{"$f":"IF(B76<>\"\",MAX($A$10:A75)+1,\"\")","v":""}]
[{"$f":"IF(B77<>\"\",MAX($A$10:A76)+1,\"\")","v":""}]
[{"$f":"IF(B78<>\"\",MAX($A$10:A77)+1,\"\")","v":""}]
[{"$f":"IF(B79<>\"\",MAX($A$10:A78)+1,\"\")","v":""}]
[{"$f":"IF(B80<>\"\",MAX($A$10:A79)+1,\"\")","v":""}]
[{"$f":"IF(B81<>\"\",MAX($A$10:A80)+1,\"\")","v":""}]
[null,null,null,null,"Subtotal I",{"$f":"SUM(F71:F81)","v":0}]
["Total INGRESSOS",null,null,null,"TOTAL",{"$f":"+F17+F24+F31+F39+F45+F54+F62+F69+F82","v":0}]
[]
[{"$f":"'Relació de despeses'!A107:M107","v":"El Sr./Sra. (indicar el nom i cognoms de la persona representant que signa la justificació)  amb DNI/NIE (indicar el núm. DNI) en qualitat de persona física beneficiària o representant legal de la persona jurídica beneficiària (indicar nom) amb NIF (indicar núm DNI)."}]
["CERTIFICA que els ingressos imputats al projecte/activitat/servei subvencionat han estat efectivament ingressats; que custodiarà la documentació suport que ho acredita; que  aquesta documentació es troba a disposició de l'Ajuntament de Barcelona o dels altres ens municipals en els arxius d'aquesta Entitat, durant un període mínim de 4 anys a comptar des de la data de presentació de la present justificació."]
[null,"Població i data:",{"$f":"IF('Relació de despeses'!C111<>\"\",'Relació de despeses'!C111,\"\")","v":""},null,null,null,"Signat digitalment"]
[]
[null,"Nota:"]
[null,"(*) Les columnes ombrejades en color groc s'aniran emplenant automàticament a partir de les dades introduïdes al full de despeses"]
[null,"(0) El número d'ordre ha de ser correlatiu començant pel número 1"]
[null,"(1) En cas que l'ingrés estigui pendent cobrament, indicar \"P. Cobrament\" "]

{"sheet":"Resum estat despeses-ingressos","index":2,"n_rows":48,"n_cols":11,"rows_kept":48,"cut":false,"hidden":false,"merged":[[24,0,24,8],[25,0,31,10],[7,0,7,1],[8,0,8,1],[9,0,9,1],[15,0,15,1],[16,0,16,1],[10,0,10,1],[11,0,11,1],[12,0,12,1],[13,0,13,1],[14,0,14,1],[11,5,11,6],[12,5,12,6],[13,5,13,6],[14,5,14,6],[33,0,33,10],[34,0,35,10],[47,0,47,10],[42,0,42,10],[43,0,43,10],[44,0,44,10],[45,0,45,10],[46,0,46,10],[37,1,37,2],[37,7,37,8],[20,0,20,1],[5,5,5,8],[7,5,7,6],[8,5,8,6],[9,5,9,6],[10,5,10,6],[17,0,17,1],[18,0,18,1],[19,0,19,1],[15,5,15,6],[20,7,20,8],[19,5,19,6],[17,5,17,6],[16,5,16,6],[20,5,20,6],[2,0,2,1],[3,0,3,1],[2,5,2,6],[3,5,3,6],[6,5,6,6],[2,2,2,3],[3,2,3,3],[4,2,4,3],[4,0,4,1],[6,0,6,1],[5,0,5,3]]}
["Estat de les despeses realitzades i dels ingressos obtinguts per a l'execució de l'activitat subvencionada (*)"]
[]
["Nom de la persona física/jurídica beneficiària:         ",null,{"$f":"IF('Relació de despeses'!C3:D3<>\"\",'Relació de despeses'!C3:D3,\"\")","v":""},null,null,"Import total del projecte:",null,{"$f":"IF(+'Relació de despeses'!J3=\"\",\"\",+'Relació de despeses'!J3)","v":""},"euros"]
["Codi de subvenció:",null,{"$f":"IF('Relació de despeses'!C4:D4<>\"\",'Relació de despeses'!C4:D4,\"\")","v":""},null,null,"Import de la subvenció atorgada:",null,{"$f":"IF(+'Relació de despeses'!J4=\"\",\"\",+'Relació de despeses'!J4)","v":""},"euros"]
["Nom del projecte subvencionat:",null,{"$f":"IF('Relació de despeses'!C5:D5<>\"\",'Relació de despeses'!C5:D5,\"\")","v":""},null,null,"Període d'execució del projecte subvencionat:",null,null,{"$f":"IF(+'Relació de despeses'!J5=\"\",\"\",+'Relació de despeses'!J5)","v":""},"a",{"$f":"IF(+'Relació de despeses'!M5=\"\",\"\",+'Relació de despeses'!M5)","v":""}]
["Despeses del projecte/activitat/servei subvencionat",null,null,null,null,"Ingressos del projecte/activitat/servei subvencionat"]
["Concepte",null,"Previsió inicial o reformulació/\nmodificació aprovada (1)","Despeses realitzades\n(2)",null,"Concepte",null,"Previsió inicial o reformulació/\nmodificació aprovada (1)","Ingressos obtinguts\n(3)"]
["A. Recursos Humans \n(Nòmina i Seguretat social del personal fix i eventual)",null,null,{"$f":"'Relació de despeses'!J26","v":0},null,"A.B. Subvencions municipals (en total)",null,null,{"$f":"'Relació d''ingressos '!F17","v":0}]
["B. Lloguers \n(de materials, locals,  infraestructures, etc.)",null,null,{"$f":"'Relació de despeses'!J35","v":0},null,"C. Subvencions d'altres administracions",null,null,{"$f":"'Relació d''ingressos '!F24","v":0}]
["C. Subministraments \n(electricitat, aigua, gas, etc.)",null,null,{"$f":"'Relació de despeses'!J42","v":0},null,"D. Aportacions d'ens privats",null,null,{"$f":"'Relació d''ingressos '!F31","v":0}]
["D. Comunicacions (telèfon, correu, missatgeria, etc.)",null,null,{"$f":"'Relació de despeses'!J49","v":0},null,"E. Recursos propis ",null,null,{"$f":"'Relació d''ingressos '!F39","v":0}]
["E. Manteniment d'edificis i/o instal·lacions",null,null,{"$f":"'Relació de despeses'!J56","v":0},null,"F. Taquillatge",null,null,{"$f":"'Relació d''ingressos '!F45","v":0}]
["F. Adquisició de material fungible\n(d'oficina, etc.)",null,null,{"$f":"'Relació de despeses'!J63","v":0},null,"G. Quotes d'inscripció",null,null,{"$f":"'Relació d''ingressos '!F54","v":0}]
["G. Transport - Missatgeria",null,null,{"$f":"'Relació de despeses'!J70","v":0},null,"H. Venda de Productes",null,null,{"$f":"'Relació d''ingressos '!F62","v":0}]
["H. Publicitat i Propaganda",null,null,{"$f":"'Relació de despeses'!J76","v":0},null,"I. Publicitat i/o Esponsorització",null,null,{"$f":"'Relació d''ingressos '!F69","v":0}]
["I. Assegurances",null,null,{"$f":"'Relació de despeses'!J81","v":0},null,"J. Altres ingressos",null,null,{"$f":"'Relació d''ingressos '!F82","v":0}]
["J. Allotjament i dietes",null,null,{"$f":"'Relació de despeses'!J86","v":0},null,"Total Ingressos",null,{"$f":"SUM(H8:H16)","v":0},{"$f":"SUM(I8:I16)","v":0}]
["K. Viatges i desplaçaments",null,null,{"$f":"'Relació de despeses'!J91","v":0},null,"% finançament municipal (5)",null,{"$f":"IF(H8=\"\",\"- %\",+H8/H17)","v":"- %"},{"$f":"IFERROR(IF(I8=\"\",\"- %\",+I8/I17),\"-%\")","v":"-%"}]
["L. Treballs realitzats per empreses externes\n",null,null,{"$f":"'Relació de despeses'!J98","v":0},null,null,null,"Previsió inicial","Real"]
["M. Altres despeses (no incloses en cap dels apartats anteriors, com per exemple amortitzacions dels bens adquirits, etc.)",null,null,{"$f":"'Relació de despeses'!J104","v":0},null,"Diferència Ingressos - Despeses ",null,{"$f":"+H17-C21","v":0},{"$f":"+I17-D21","v":0}]
["Total Despeses",null,{"$f":"SUM(C8:C20)","v":0},{"$f":"SUM(D8:D20)","v":0},null,"Desviació de Despeses (4)",null,"Desviació d'ingressos (4)"]
[null,null,null,null,null,"Import"," % (6)","Import","%"]
[null,null,null,null,null,{"$f":"+D21-C21","v":0},{"$f":"IFERROR(F23/C21,0)","v":0},{"$f":"+I17-H17","v":0},{"$f":"IFERROR(H23/H17,0)","v":0}]
[]
["Explicar els motius pels quals existeix una desviació entre la despesa prevista en la sol·licitud de subvenció i la finalment realitzada , així com entre els ingressos previstos i els obtinguts."]
[]
[]
[]
[]
[]
[]
[]
[]
[{"$f":"+'Relació de despeses'!A107:N107","v":"El Sr./Sra. (indicar el nom i cognoms de la persona representant que signa la justificació)  amb DNI/NIE (indicar el núm. DNI) en qualitat de persona física beneficiària o representant legal de la persona jurídica beneficiària (indicar nom) amb NIF (indicar núm DNI)."}]
["DECLARA que en relació al projecte/activitat/servei subvencionat s'han produït els ingressos i despeses que figuren en el present document, i que les desviacions respecte al pressupost inicial s'han produït per les motivacions a dalt esmentades, i perquè així consti, als efectes de justificar el compliment de l'objecte de la subvenció concedida, signo la present declaració responsable."]
[]
[]
["Població i data: ",{"$f":"IF('Relació de despeses'!C111<>\"\",'Relació de despeses'!C111,\"\")","v":""},null,null,null,null,null,"Signat digitalment"]
[]
[]
["Notes:"]
["(*)Les columnes ombrejades en color groc s'aniran emplenant automàticament a partir de les dades introduïdes en els fulls de despeses i ingressos"]
["(1) Previsió inicial o reformulació/modificació aprovada : S'ha d'indicar la previsió inicial de despeses i d'ingressos segons allò que es va indicar al projecte original en el \"pla de viabilitat econòmica del projecte - pressupost general\" . En cas que ja s'hagi aprovat una reformulació/modificació, s'han d'indicar les quantitats reformulades/modificades. "]
["(2) Despeses reals : Cost real total del projecte subvencionat. Automàticament s'introduiran els subtotals de les despeses relacionades al full Despeses-detall."]
["(3) Ingressos reals : Total d'ingressos obtinguts per a la realització del projecte subvencionat. Automàticament s'introduiran els subtotals dels ingressos relacionats al full Ingressos-detall"]
["(4) Desviació: En el cas de les despeses, la desviació és la diferència entre despeses reals i la previsió inicial de despeses; i en el cas d'ingressos, la diferència entre els ingressos reals i la previsió inicial d'ingressos. "]
["(5) % finançament municipal : percentatge que suposen les subvencions municipals (A.B.) respecte del  total d'ingressos del projecte subvencionat."]
["(6) El % de la desviació final de despeses es calcula dividint l'import resultant de despeses reals - despeses previstes, entre el total de despeses previstes i de la mateixa manera els ingressos. En cas d'existir una desviació sempre s'ha de motivar."]

{"sheet":"Full1","index":3,"n_rows":0,"n_cols":0,"rows_kept":0,"cut":false,"hidden":true,"merged":[]}