{"text_format":"1","workbook":"xlsx","n_sheets":3,"sheets":["Relació de despeses","Relació d'ingressos ","Resum estat despeses-ingressos"],"not_rendered":{"charts":0,"images":1,"macros":1,"external_links":0,"defined_names":7,"comments":3,"pivot_tables":0},"unopened":[],"bounds":{"document_bytes":16777216,"sheet_cells":100000,"rows_first":2000,"rows_last":500,"rows_between":2000,"halvings":0,"cell_chars":16384,"cell_head_chars":4096},"cells_cut":0,"cells_raw":0,"read":"whole","date_system":"1900"}

{"sheet":"Relació de despeses","index":0,"n_rows":120,"n_cols":10,"rows_kept":120,"cut":false,"hidden":false,"merged":[[116,0,116,10],[117,0,117,10],[22,9,22,10],[23,9,23,10],[25,9,25,10],[34,9,34,10],[94,9,94,10],[95,9,95,10],[98,9,98,10],[99,9,99,10],[89,9,89,10],[90,9,90,10],[91,9,91,10],[92,9,92,10],[84,9,84,10],[85,9,85,10],[109,0,109,10],[81,9,81,10],[105,9,105,10],[115,0,115,10],[108,0,108,10],[51,0,51,10],[50,0,50,6],[38,9,38,10],[68,9,68,10],[119,0,119,10],[118,0,118,10],[7,9,7,10],[8,9,8,10],[9,0,9,10],[26,9,26,10],[72,0,72,10],[77,0,77,6],[71,0,71,6],[93,0,93,10],[100,0,100,10],[64,0,64,6],[58,0,58,10],[30,9,30,10],[29,9,29,10],[7,3,7,4],[83,0,83,10],[78,0,78,10],[82,0,82,6],[88,0,88,10],[65,0,65,10],[79,9,79,10],[80,9,80,10],[50,9,50,10],[3,0,3,1],[7,1,8,1],[7,0,8,0],[6,0,6,4],[105,0,105,6],[87,9,87,10],[66,9,66,10],[77,9,77,10],[76,9,76,10],[67,9,67,10],[52,9,52,10],[64,9,64,10],[63,9,63,10],[62,9,62,10],[61,9,61,10],[60,9,60,10],[59,9,59,10],[57,9,57,10],[56,9,56,10],[32,9,32,10],[31,9,31,10],[70,9,70,10],[69,9,69,10],[106,9,106,10],[106,0,106,5],[102,9,102,10],[75,9,75,10],[74,9,74,10],[71,9,71,10],[92,0,92,6],[104,9,104,10],[86,9,86,10],[96,9,96,10],[97,9,97,10],[103,9,103,10],[101,9,101,10],[82,9,82,10],[99,0,99,6],[87,0,87,6],[73,9,73,10],[0,0,0,10],[4,0,4,1],[27,0,27,6],[2,2,2,3],[3,2,3,3],[4,2,4,3],[10,9,10,10],[2,0,2,1],[57,0,57,6],[12,9,12,10],[55,9,55,10],[54,9,54,10],[53,9,53,10],[37,0,37,10],[44,0,44,10],[15,9,15,10],[14,9,14,10],[13,9,13,10],[27,9,27,10],[45,9,45,10],[43,9,43,10],[42,9,42,10],[41,9,41,10],[40,9,40,10],[2,4,2,6],[3,4,3,6],[4,4,4,6],[49,9,49,10],[48,9,48,10],[47,9,47,10],[46,9,46,10],[7,2,8,2],[11,9,11,10],[2,7,2,8],[3,7,3,8],[4,7,4,8],[19,9,19,10],[20,9,20,10],[21,9,21,10],[33,9,33,10],[39,9,39,10],[16,9,16,10],[18,9,18,10],[36,0,36,6],[43,0,43,6],[28,0,28,10],[36,9,36,10],[35,9,35,10]]}
["Relació classificada de totes les despeses realitzades per a l'execució de l'activitat  subvencionada"]
[]
["Persona física/jurídica beneficiària:         ",null,null,null,"Import total del projecte:"]
["Codi de subvenció:",null,null,null,"Import de la subvenció atorgada:"]
["Nom del projecte subvencionat:",null,null,null,"Període d'execució del projecte subvencionat:",null,null,null,null,"a"]
[]
["Despeses del projecte/activitat/servei subvencionat (*)"]
["núm. d'ordre","Número de document: justificants despesa personal (1), factura o rebut/tiquet(2)","Concepte de la factura / \ndocument probatori equivalent","Emissor de la factura",null,"Data d'emissió","Import total de la factura","Import imputable (dedicat) al projecte (3)","Import imputable a la subvenció municipal (4)","Observacions"]
[null,null,null,"NIF","Nom","dd/mm/aa","euros","euros","euros","(2)"]
["A. Recursos Humans (retribucions brutes i Seguretat Social del personal fix o eventual contractat)"]
[{"$f":"IF(B11<>\"\",1,\"\")","v":""}]
[{"$f":"IF(B12<>\"\",MAX($A$11:A11)+1,\"\")","v":""}]
[{"$f":"IF(B13<>\"\",MAX($A$11:A12)+1,\"\")","v":""}]
[{"$f":"IF(B14<>\"\",MAX($A$11:A13)+1,\"\")","v":""}]
[{"$f":"IF(B15<>\"\",MAX($A$11:A14)+1,\"\")","v":""}]
[{"$f":"IF(B16<>\"\",MAX($A$11:A15)+1,\"\")","v":""}]
[{"$f":"IF(B17<>\"\",MAX($A$11:A16)+1,\"\")","v":""}]
[{"$f":"IF(B18<>\"\",MAX($A$11:A17)+1,\"\")","v":""}]
[{"$f":"IF(B19<>\"\",MAX($A$11:A18)+1,\"\")","v":""}]
[{"$f":"IF(B20<>\"\",MAX($A$11:A19)+1,\"\")","v":""}]
[{"$f":"IF(B21<>\"\",MAX($A$11:A20)+1,\"\")","v":""}]
[{"$f":"IF(B22<>\"\",MAX($A$11:A21)+1,\"\")","v":""}]
[{"$f":"IF(B23<>\"\",MAX($A$11:A22)+1,\"\")","v":""}]
[{"$f":"IF(B24<>\"\",MAX($A$11:A23)+1,\"\")","v":""}]
[{"$f":"IF(B25<>\"\",MAX($A$11:A24)+1,\"\")","v":""}]
[{"$f":"IF(B26<>\"\",MAX($A$11:A25)+1,\"\")","v":""}]
[{"$f":"IF(B27<>\"\",MAX($A$11:A26)+1,\"\")","v":""}]
["Subtotal A",null,null,null,null,null,null,{"$f":"SUM(H11:H27)","v":0},{"$f":"SUM(I11:I27)","v":0}]
["B. Lloguers (materials, infraestructures, locals, etc.)"]
[{"$f":"IF(B30<>\"\",MAX($A$11:A29)+1,\"\")","v":""}]
[{"$f":"IF(B31<>\"\",MAX($A$29:A30)+1,\"\")","v":""}]
[{"$f":"IF(B32<>\"\",MAX($A$29:A31)+1,\"\")","v":""}]
[{"$f":"IF(B33<>\"\",MAX($A$29:A32)+1,\"\")","v":""}]
[{"$f":"IF(B34<>\"\",MAX($A$29:A33)+1,\"\")","v":""}]
[{"$f":"IF(B35<>\"\",MAX($A$29:A34)+1,\"\")","v":""}]
[{"$f":"IF(B36<>\"\",MAX($A$29:A35)+1,\"\")","v":""}]
["Subtotal B",null,null,null,null,null,null,{"$f":"SUM(H30:H36)","v":0},{"$f":"SUM(I30:I36)","v":0}]
["C. Subministraments (llum, aigua, gas, etc.)"]
[{"$f":"IF(B39<>\"\",MAX($A$11:A38)+1,\"\")","v":""}]
[{"$f":"IF(B40<>\"\",MAX($A$29:A39)+1,\"\")","v":""}]
[{"$f":"IF(B41<>\"\",MAX($A$29:A40)+1,\"\")","v":""}]
[{"$f":"IF(B42<>\"\",MAX($A$29:A41)+1,\"\")","v":""}]
[{"$f":"IF(B43<>\"\",MAX($A$29:A42)+1,\"\")","v":""}]
["Subtotal C",null,null,null,null,null,null,{"$f":"SUM(H39:H43)","v":0},{"$f":"SUM(I39:I43)","v":0}]
["D. Comunicacions (telèfon, correu, etc.)"]
[{"$f":"IF(B46<>\"\",MAX($A$11:A45)+1,\"\")","v":""}]
[{"$f":"IF(B47<>\"\",MAX($A$29:A46)+1,\"\")","v":""}]
[{"$f":"IF(B48<>\"\",MAX($A$29:A47)+1,\"\")","v":""}]
[{"$f":"IF(B49<>\"\",MAX($A$29:A48)+1,\"\")","v":""}]
[{"$f":"IF(B50<>\"\",MAX($A$29:A49)+1,\"\")","v":""}]
["Subtotal D",null,null,null,null,null,null,{"$f":"SUM(H46:H50)","v":0},{"$f":"SUM(I46:I50)","v":0}]
["E. Manteniment d'edificis i/o instal·lacions"]
[{"$f":"IF(B53<>\"\",MAX($A$11:A52)+1,\"\")","v":""}]
[{"$f":"IF(B54<>\"\",MAX($A$29:A53)+1,\"\")","v":""}]
[{"$f":"IF(B55<>\"\",MAX($A$29:A54)+1,\"\")","v":""}]
[{"$f":"IF(B56<>\"\",MAX($A$29:A55)+1,\"\")","v":""}]
[{"$f":"IF(B57<>\"\",MAX($A$29:A56)+1,\"\")","v":""}]
["Subtotal E",null,null,null,null,null,null,{"$f":"SUM(H53:H57)","v":0},{"$f":"SUM(I53:I57)","v":0}]
["F. Adquisició de material fungible (d'oficina, etc.)"]
[{"$f":"IF(B60<>\"\",MAX($A$11:A59)+1,\"\")","v":""}]
[{"$f":"IF(B61<>\"\",MAX($A$29:A60)+1,\"\")","v":""}]
[{"$f":"IF(B62<>\"\",MAX($A$29:A61)+1,\"\")","v":""}]
[{"$f":"IF(B63<>\"\",MAX($A$29:A62)+1,\"\")","v":""}]
[{"$f":"IF(B64<>\"\",MAX($A$29:A63)+1,\"\")","v":""}]
["Subtotal F",null,null,null,null,null,null,{"$f":"SUM(H60:H64)","v":0},{"$f":"SUM(I60:I64)","v":0}]
["G. Transport - Missatgeria"]
[{"$f":"IF(B67<>\"\",MAX($A$11:A66)+1,\"\")","v":""}]
[{"$f":"IF(B68<>\"\",MAX($A$29:A67)+1,\"\")","v":""}]
[{"$f":"IF(B69<>\"\",MAX($A$29:A68)+1,\"\")","v":""}]
[{"$f":"IF(B70<>\"\",MAX($A$29:A69)+1,\"\")","v":""}]
[{"$f":"IF(B71<>\"\",MAX($A$29:A70)+1,\"\")","v":""}]
["Subtotal G",null,null,null,null,null,null,{"$f":"SUM(H67:H71)","v":0},{"$f":"SUM(I67:I71)","v":0}]
["H. Publicitat i Propaganda"]
[{"$f":"IF(B74<>\"\",MAX($A$11:A73)+1,\"\")","v":""}]
[{"$f":"IF(B75<>\"\",MAX($A$29:A74)+1,\"\")","v":""}]
[{"$f":"IF(B76<>\"\",MAX($A$29:A75)+1,\"\")","v":""}]
[{"$f":"IF(B77<>\"\",MAX($A$29:A76)+1,\"\")","v":""}]
["Subtotal H",null,null,null,null,null,null,{"$f":"SUM(H74:H77)","v":0},{"$f":"SUM(I74:I77)","v":0}]
["I. Assegurances"]
[{"$f":"IF(B80<>\"\",MAX($A$11:A79)+1,\"\")","v":""}]
[{"$f":"IF(B81<>\"\",MAX($A$29:A80)+1,\"\")","v":""}]
[{"$f":"IF(B82<>\"\",MAX($A$29:A81)+1,\"\")","v":""}]
["Subtotal I",null,null,null,null,null,null,{"$f":"SUM(H80:H82)","v":0},{"$f":"SUM(I80:I82)","v":0}]
["J. Allotjament i dietes (2)"]
[{"$f":"IF(B85<>\"\",MAX($A$11:A84)+1,\"\")","v":""}]
[{"$f":"IF(B86<>\"\",MAX($A$29:A85)+1,\"\")","v":""}]
[{"$f":"IF(B87<>\"\",MAX($A$29:A86)+1,\"\")","v":""}]
["Subtotal J",null,null,null,null,null,null,{"$f":"SUM(H85:H87)","v":0},{"$f":"SUM(I85:I87)","v":0}]
["K. Viatges i desplaçaments (2)"]
[{"$f":"IF(B90<>\"\",MAX($A$11:A89)+1,\"\")","v":""}]
[{"$f":"IF(B91<>\"\",MAX($A$29:A90)+1,\"\")","v":""}]
[{"$f":"IF(B92<>\"\",MAX($A$29:A91)+1,\"\")","v":""}]
["Subtotal K",null,null,null,null,null,null,{"$f":"SUM(H90:H92)","v":0},{"$f":"SUM(I90:I92)","v":0}]
["L. Treballs realitzats per empreses externes (neteja, seguretat, altres treballs directament relacionats amb l'activitat i/o projecte)"]
[{"$f":"IF(B95<>\"\",MAX($A$11:A94)+1,\"\")","v":""}]
[{"$f":"IF(B96<>\"\",MAX($A$29:A95)+1,\"\")","v":""}]
[{"$f":"IF(B97<>\"\",MAX($A$29:A96)+1,\"\")","v":""}]
[{"$f":"IF(B98<>\"\",MAX($A$29:A97)+1,\"\")","v":""}]
[{"$f":"IF(B99<>\"\",MAX($A$29:A98)+1,\"\")","v":""}]
["Subtotal L",null,null,null,null,null,null,{"$f":"SUM(H95:H99)","v":0},{"$f":"SUM(I95:I99)","v":0}]
["M. Altres despeses (a especificar)"]
[{"$f":"IF(B102<>\"\",MAX($A$11:A101)+1,\"\")","v":""}]
[{"$f":"IF(B103<>\"\",MAX($A$29:A102)+1,\"\")","v":""}]
[{"$f":"IF(B104<>\"\",MAX($A$29:A103)+1,\"\")","v":""}]
[{"$f":"IF(B105<>\"\",MAX($A$29:A104)+1,\"\")","v":""}]
["Subtotal M",null,null,null,null,null,null,{"$f":"SUM(H102:H105)","v":0},{"$f":"SUM(I102:I105)","v":0}]
["TOTAL DESPESES",null,null,null,null,null,"TOTAL",{"$f":"+H28+H37+H44+H51+H58+H65+H72+H78+H83+H88+H93+H100+H106","v":0},{"$f":"+I28+I37+I44+I51+I58+I65+I72+I78+I83+I88+I93+I100+I106","v":0}]
[]
["El Sr./Sra. (indicar el nom i cognoms de la persona representant que signa la justificació)  amb DNI/NIE (indicar el núm. DNI) en qualitat de persona física beneficiària o representant legal de la persona jurídica beneficiària (indicar nom i cognoms) amb NIF (indicar núm . NIF)."]
["CERTIFICA que els rebuts/tiquets que s'han identificat com a tals en el camp d'observacions corresponen a despeses generades per l'esmentada activitat, que pels seus imports i característiques no han pogut ser objecte de factura; que els justificants relacionats imputats al projecte/activitat/servei subvencionat durant el seu període d'execució han estat efectivament pagats; que custodiarà la documentació suport que ho acredita; que aquesta documentació es troba a disposició de l'Ajuntament de Barcelona o dels altres ens municipals en els arxius d'aquesta Entitat, durant un període mínim de 4 anys a comptar des de la data de presentació de la present justificació."]
[]
[]
[null,"Població i data:  ",null,null,null,"Signat digitalment"]
[]
["Notes:"]
["(*) S'han de relacionar totes les despeses del projecte/activitat/servei subvencionat. En el cas que el nombre de files de cada concepte sigui insuficient podeu inserir línies dins del mateix concepte seleccionant una cel·la verda i fent clic sobre el botó d'inserir línia."]
["(1) Respecte a les despeses de recursos humans, pot ser subvencionable el cost total salarial mensual, que correspon a la suma de la retribució  neta que apareix a la nòmina del treballador/a més la quota de l'empresa a la Seg. Social i IRPF. Les despeses de personal es justifiquen amb la nòmina del treballador acompanyada dels corresponents RNT i RLC de la TGSS i el model 111 de l'IRPF."]
["(2) En el cas que el document justificatiu de la resta de despeses, no sigui una factura, sinó un altre document probatori equivalent, com un rebut o justificant (com per dietes o transport públic), indiqueu-ho en el camp d'observacions."]
["(3) En el cas que un justificant inclogui conceptes que no tenen a veure amb el projecte/activitat/servei per al qual s'ha atorgat la subvenció, aquí només s'ha d'indicar la part que realment s'ha dedicat al projecte."]
["(4) En aquesta columna s'ha d'indicar l'import total o parcial de la factura  que s'imputa a la subvenció rebuda de l'Ajuntament de Barcelona/IBE/ICUB/IMPD/IMSS. El total imputat, en aquesta columna, ha de ser igual  a l'import de la subvenció rebuda."]

{"sheet":"Relació d'ingressos ","index":1,"n_rows":93,"n_cols":10,"rows_kept":93,"cut":false,"hidden":false,"merged":[[88,5,88,6],[88,2,88,3],[13,6,13,9],[14,6,14,9],[28,6,28,9],[50,6,50,9],[67,6,67,9],[57,6,57,9],[22,6,22,9],[21,6,21,9],[20,6,20,9],[19,6,19,9],[18,6,18,9],[40,6,40,9],[53,6,53,9],[52,6,52,9],[51,6,51,9],[49,6,49,9],[30,0,30,3],[62,6,62,9],[61,6,61,9],[38,6,38,9],[23,0,23,3],[54,0,54,9],[56,6,56,9],[55,6,55,9],[36,6,36,9],[35,6,35,9],[30,6,30,9],[29,6,29,9],[27,6,27,9],[26,6,26,9],[25,6,25,9],[42,6,42,9],[32,6,32,9],[44,6,44,9],[43,6,43,9],[34,6,34,9],[0,0,0,9],[9,0,9,9],[17,0,17,9],[24,0,24,9],[7,6,8,9],[10,6,10,9],[11,6,11,9],[7,0,8,0],[12,6,12,9],[15,6,15,9],[3,2,3,3],[2,2,2,3],[6,0,6,3],[4,2,4,3],[7,2,7,3],[16,0,16,3],[7,1,8,1],[48,6,48,9],[47,6,47,9],[46,6,46,9],[63,0,63,9],[37,6,37,9],[41,6,41,9],[53,0,53,3],[31,0,31,9],[39,0,39,9],[45,0,45,9],[44,0,44,3],[38,0,38,3],[16,6,16,9],[23,6,23,9],[33,6,33,9],[70,0,70,9],[58,6,58,9],[69,6,69,9],[71,6,71,9],[69,0,69,3],[62,0,62,3],[60,6,60,9],[68,6,68,9],[66,6,66,9],[65,6,65,9],[64,6,64,9],[83,0,83,3],[82,0,82,3],[85,0,85,9],[86,0,86,9],[82,6,82,9],[81,6,81,9],[77,6,77,9],[75,6,75,9],[72,6,72,9],[83,6,83,9],[73,6,73,9],[74,6,74,9],[76,6,76,9],[78,6,78,9],[79,6,79,9],[80,6,80,9]]}
["Detall de tots els ingressos obtinguts i aportacions del propi beneficiari per a l'execució de l'activitat subvencionada"]
[]
[null,"Nom de la persona física/jurídica beneficiària:        ",{"$f":"IF('Relació de despeses'!C3:D3<>\"\",'Relació de despeses'!C3:D3,\"\")","v":""},null,"Import total del projecte :",null,null,{"$f":"IF(+'Relació de despeses'!H3=\"\",\"\",+'Relació de despeses'!H3)","v":""}]
[null,"Codi de subvenció",{"$f":"IF('Relació de despeses'!C4:D4<>\"\",'Relació de despeses'!C4:D4,\"\")","v":""},null,"Import de la subvenció atorgada:",null,null,{"$f":"IF(+'Relació de despeses'!H4=\"\",\"\",+'Relació de despeses'!H4)","v":""}]
[null,"Nom del projecte subvencionat",{"$f":"IF('Relació de despeses'!C5:D5<>\"\",'Relació de despeses'!C5:D5,\"\")","v":""},null,"Període d'execució del projecte subvencionat:",null,null,{"$f":"IF(+'Relació de despeses'!H5=\"\",\"\",+'Relació de despeses'!H5)","v":""},"a",{"$f":"IF(+'Relació de despeses'!K5=\"\",\"\",+'Relació de despeses'!K5)","v":""}]
[]
["Ingressos del projecte/activitat/servei subvencionat*"]
["núm. d'ordre ","Concepte de l'ingrés","Emissor de l'ingrés",null,"Data de cobrament\n(dd/mm/aaaa)","Import","Observacions"]
[null,null,"NIF","Nom","(1)","euros"]
["A.B. Subvencions de l'Ajuntament de Barcelona"]
[{"$f":"IF(B11<>\"\",1,\"\")","v":""}]
[]
[]
[]
[{"$f":"IF(B15<>\"\",MAX($A$10:A14)+1,\"\")","v":""}]
[{"$f":"IF(B16<>\"\",MAX($A$10:A15)+1,\"\")","v":""}]
[null,null,null,null,"Subtotal A",{"$f":"SUM(F11:F16)","v":0}]
["C. Subvencions d'altres administracions"]
[{"$f":"IF(B19<>\"\",MAX($A$10:A18)+1,\"\")","v":""}]
[{"$f":"IF(B20<>\"\",MAX($A$10:A19)+1,\"\")","v":""}]
[{"$f":"IF(B21<>\"\",MAX($A$10:A20)+1,\"\")","v":""}]
[{"$f":"IF(B22<>\"\",MAX($A$10:A21)+1,\"\")","v":""}]
[{"$f":"IF(B23<>\"\",MAX($A$10:A22)+1,\"\")","v":""}]
[null,null,null,null,"Subtotal B",{"$f":"SUM(F19:F23)","v":0}]
["D. Aportacions d'ens privats"]
[{"$f":"IF(B26<>\"\",MAX($A$10:A25)+1,\"\")","v":""}]
[{"$f":"IF(B27<>\"\",MAX($A$10:A26)+1,\"\")","v":""}]
[{"$f":"IF(B28<>\"\",MAX($A$10:A27)+1,\"\")","v":""}]
[{"$f":"IF(B29<>\"\",MAX($A$10:A28)+1,\"\")","v":""}]
[{"$f":"IF(B30<>\"\",MAX($A$10:A29)+1,\"\")","v":""}]
[null,null,null,null,"Subtotal C",{"$f":"SUM(F26:F30)","v":0}]
["E. Recursos propis de l'entitat"]
[{"$f":"IF(B33<>\"\",MAX($A$10:A32)+1,\"\")","v":""}]
[{"$f":"IF(B34<>\"\",MAX($A$10:A33)+1,\"\")","v":""}]
[{"$f":"IF(B35<>\"\",MAX($A$10:A34)+1,\"\")","v":""}]
[{"$f":"IF(B36<>\"\",MAX($A$10:A35)+1,\"\")","v":""}]
[{"$f":"IF(B37<>\"\",MAX($A$10:A36)+1,\"\")","v":""}]
[{"$f":"IF(B38<>\"\",MAX($A$10:A37)+1,\"\")","v":""}]
[null,null,null,null,"Subtotal D",{"$f":"SUM(F33:F38)","v":0}]
["F. Taquillatge"]
[{"$f":"IF(B41<>\"\",MAX($A$10:A40)+1,\"\")","v":""}]
[{"$f":"IF(B42<>\"\",MAX($A$10:A41)+1,\"\")","v":""}]
[{"$f":"IF(B43<>\"\",MAX($A$10:A42)+1,\"\")","v":""}]
[{"$f":"IF(B44<>\"\",MAX($A$10:A43)+1,\"\")","v":""}]
[null,null,null,null,"Subtotal E",{"$f":"SUM(F41:F44)","v":0}]
["G. Quotes d'inscripció"]
[{"$f":"IF(B47<>\"\",MAX($A$10:A46)+1,\"\")","v":""}]
[{"$f":"IF(B48<>\"\",MAX($A$10:A47)+1,\"\")","v":""}]
[{"$f":"IF(B49<>\"\",MAX($A$10:A48)+1,\"\")","v":""}]
[{"$f":"IF(B50<>\"\",MAX($A$10:A49)+1,\"\")","v":""}]
[{"$f":"IF(B51<>\"\",MAX($A$10:A50)+1,\"\")","v":""}]
[{"$f":"IF(B52<>\"\",MAX($A$10:A51)+1,\"\")","v":""}]
[{"$f":"IF(B53<>\"\",MAX($A$10:A52)+1,\"\")","v":""}]
[null,null,null,null,"Subtotal F",{"$f":"SUM(F47:F53)","v":0}]
["H. Venda de Productes"]
[{"$f":"IF(B56<>\"\",MAX($A$10:A55)+1,\"\")","v":""}]
[{"$f":"IF(B57<>\"\",MAX($A$10:A56)+1,\"\")","v":""}]
[{"$f":"IF(B58<>\"\",MAX($A$10:A57)+1,\"\")","v":""}]
[{"$f":"IF(B59<>\"\",MAX($A$10:A58)+1,\"\")","v":""}]
[{"$f":"IF(B60<>\"\",MAX($A$10:A59)+1,\"\")","v":""}]
[{"$f":"IF(B61<>\"\",MAX($A$10:A60)+1,\"\")","v":""}]
[{"$f":"IF(B62<>\"\",MAX($A$10:A61)+1,\"\")","v":""}]
[null,null,null,null,"Subtotal G",{"$f":"SUM(F56:F62)","v":0}]
["I. Publicitat i/o Esponsorització"]
[{"$f":"IF(B65<>\"\",MAX($A$10:A64)+1,\"\")","v":""}]
[{"$f":"IF(B66<>\"\",MAX($A$10:A65)+1,\"\")","v":""}]
[{"$f":"IF(B67<>\"\",MAX($A$10:A66)+1,\"\")","v":""}]
[{"$f":"IF(B68<>\"\",MAX($A$10:A67)+1,\"\")","v":""}]
[{"$f":"IF(B69<>\"\",MAX($A$10:A68)+1,\"\")","v":""}]
[null,null,null,null,"Subtotal H",{"$f":"SUM(F65:F69)","v":0}]
["J. Altres ingressos"]
[{"$f":"IF(B72<>\"\",MAX($A$10:A71)+1,\"\")","v":""}]
[{"$f":"IF(B73<>\"\",MAX($A$10:A72)+1,\"\")","v":""}]
[{"$f":"IF(B74<>\"\",MAX($A$10:A73)+1,\"\")","v":""}]
[{"$f":"IF(B75<>\"\",MAX($A$10:A74)+1,\"\")","v":""}]
[{"$f":"IF(B76<>\"\",MAX($A$10:A75)+1,\"\")","v":""}]
[{"$f":"IF(B77<>\"\",MAX($A$10:A76)+1,\"\")","v":""}]
[{"$f":"IF(B78<>\"\",MAX($A$10:A77)+1,\"\")","v":""}]
[{"$f":"IF(B79<>\"\",MAX($A$10:A78)+1,\"\")","v":""}]
[{"$f":"IF(B80<>\"\",MAX($A$10:A79)+1,\"\")","v":""}]
[{"$f":"IF(B81<>\"\",MAX($A$10:A80)+1,\"\")","v":""}]
[{"$f":"IF(B82<>\"\",MAX($A$10:A81)+1,\"\")","v":""}]
[null,null,null,null,"Subtotal I",{"$f":"SUM(F72:F82)","v":0}]
["Total INGRESSOS",null,null,null,"TOTAL",{"$f":"+F17+F24+F31+F39+F45+F54+F63+F70+F83","v":0}]
[]
[{"$f":"'Relació de despeses'!A109:K109","v":"El Sr./Sra. (indicar el nom i cognoms de la persona representant que signa la justificació)  amb DNI/NIE (indicar el núm. DNI) en qualitat de persona física beneficiària o representant legal de la persona jurídica beneficiària (indicar nom i cognoms) amb NIF (indicar núm . NIF)."}]
["CERTIFICA que els ingressos imputats al projecte/activitat/servei subvencionat han estat efectivament ingressats; que custodiarà la documentació suport que ho acredita; que  aquesta documentació es troba a disposició de l'Ajuntament de Barcelona o dels altres ens municipals en els arxius d'aquesta Entitat, durant un període mínim de 4 anys a comptar des de la data de presentació de la present justificació."]
[]
[null,"Població i data: ",{"$f":"IF('Relació de despeses'!C113<>\"\",'Relació de despeses'!C113,\"\")","v":""},null,null,"Signat digitalment"]
[]
[null,"Nota:"]
[null,"(*) Les columnes ombrejades en color groc s'aniran emplenant automàticament a partir de les dades introduïdes al full de despeses"]
[null,"(1) En cas que l'ingrés estigui pendent cobrament, indicar \"P. Cobrament\" "]

{"sheet":"Resum estat despeses-ingressos","index":2,"n_rows":47,"n_cols":11,"rows_kept":47,"cut":false,"hidden":false,"merged":[[2,0,2,1],[3,0,3,1],[2,5,2,6],[3,5,3,6],[6,5,6,6],[2,2,2,3],[3,2,3,3],[4,2,4,3],[4,0,4,1],[6,0,6,1],[7,5,7,6],[8,5,8,6],[9,5,9,6],[10,5,10,6],[5,5,5,8],[11,5,11,6],[5,0,5,3],[20,7,20,8],[12,5,12,6],[13,5,13,6],[14,5,14,6],[15,5,15,6],[19,5,19,6],[17,5,17,6],[16,5,16,6],[7,0,7,1],[8,0,8,1],[9,0,9,1],[20,5,20,6],[20,0,20,1],[15,0,15,1],[46,0,46,10],[41,0,41,10],[42,0,42,10],[43,0,43,10],[44,0,44,10],[45,0,45,10],[24,0,24,8],[25,0,31,10],[32,0,32,10],[33,0,34,10],[36,0,36,1],[16,0,16,1],[17,0,17,1],[18,0,18,1],[19,0,19,1],[10,0,10,1],[11,0,11,1],[12,0,12,1],[13,0,13,1],[14,0,14,1]]}
["Estat de les despeses realitzades i dels ingressos obtinguts per a l'execució de l'activitat subvencionada (*)"]
[]
["Nom de la persona física/jurídica beneficiària:         ",null,{"$f":"IF('Relació de despeses'!C3:D3<>\"\",'Relació de despeses'!C3:D3,\"\")","v":""},null,null,"Import total del projecte:",null,{"$f":"IF(+'Relació de despeses'!H3=\"\",\"\",+'Relació de despeses'!H3)","v":""}]
["Codi de subvenció:",null,{"$f":"IF('Relació de despeses'!C4:D4<>\"\",'Relació de despeses'!C4:D4,\"\")","v":""},null,null,"Import de la subvenció atorgada:",null,{"$f":"IF(+'Relació de despeses'!H4=\"\",\"\",+'Relació de despeses'!H4)","v":""}]
["Nom del projecte subvencionat:",null,{"$f":"IF('Relació de despeses'!C5:D5<>\"\",'Relació de despeses'!C5:D5,\"\")","v":""},null,null,"Període d'execució del projecte subvencionat:",null,null,{"$f":"IF(+'Relació de despeses'!H5=\"\",\"\",+'Relació de despeses'!H5)","v":""},"a",{"$f":"IF(+'Relació de despeses'!K5=\"\",\"\",+'Relació de despeses'!K5)","v":""}]
["Despeses del projecte/activitat/servei subvencionat",null,null,null,null,"Ingressos del projecte/activitat/servei subvencionat"]
["Concepte",null,"Previsió inicial o reformulació (1)","Despeses realitzades\n(2)",null,"Concepte",null,"Previsió inicial o reformulació aprovada (1)","Ingressos obtinguts\n(3)"]
["A. Recursos Humans \n(Nòmina i Seguretat social del personal fix i eventual)",null,null,{"$f":"'Relació de despeses'!H28","v":0},null,"A.B. Subvencions municipals (en total)",null,null,{"$f":"'Relació d''ingressos '!F17","v":0}]
["B. Lloguers \n(de materials, locals,  infraestructures, etc.)",null,null,{"$f":"'Relació de despeses'!H37","v":0},null,"C. Subvencions d'altres administracions",null,null,{"$f":"'Relació d''ingressos '!F24","v":0}]
["C. Subministraments \n(electricitat, aigua, gas, etc.)",null,null,{"$f":"'Relació de despeses'!H44","v":0},null,"D. Aportacions d'ens privats",null,null,{"$f":"'Relació d''ingressos '!F31","v":0}]
["D. Comunicacions (telèfon, correu, missatgeria, etc.)",null,null,{"$f":"'Relació de despeses'!H51","v":0},null,"E. Recursos propis",null,null,{"$f":"'Relació d''ingressos '!F39","v":0}]
["E. Manteniment d'edificis i/o instal·lacions",null,null,{"$f":"'Relació de despeses'!H58","v":0},null,"F. Taquillatge",null,null,{"$f":"'Relació d''ingressos '!F45","v":0}]
["F. Adquisició de material fungible\n(d'oficina, etc.)",null,null,{"$f":"'Relació de despeses'!H65","v":0},null,"G. Quotes d'inscripció",null,null,{"$f":"'Relació d''ingressos '!F54","v":0}]
["G. Transport - Missatgeria",null,null,{"$f":"'Relació de despeses'!H72","v":0},null,"H. Venda de Productes",null,null,{"$f":"'Relació d''ingressos '!F63","v":0}]
["H. Publicitat i Propaganda",null,null,{"$f":"'Relació de despeses'!H78","v":0},null,"I. Publicitat i/o Esponsorització",null,null,{"$f":"'Relació d''ingressos '!F70","v":0}]
["I. Assegurances",null,null,{"$f":"'Relació de despeses'!H83","v":0},null,"J. Altres ingressos",null,null,{"$f":"'Relació d''ingressos '!F83","v":0}]
["J. Allotjament i dietes",null,null,{"$f":"'Relació de despeses'!H88","v":0},null,"Total Ingressos",null,{"$f":"SUM(H8:H16)","v":0},{"$f":"SUM(I8:I16)","v":0}]
["K. Viatges i desplaçaments",null,null,{"$f":"'Relació de despeses'!H93","v":0},null,"% finançament municipal (5)",null,{"$f":"IF(H8=\"\",\"- %\",+H8/H17)","v":"- %"},{"$f":"IFERROR(IF(I8=\"\",\"- %\",I8/I17),\"-%\")","v":"-%"}]
["L. Treballs realitzats per empreses externes\n",null,null,{"$f":"'Relació de despeses'!H100","v":0},null,null,null,"Previsió inicial","Final"]
["M. Altres despeses (no incloses en cap dels apartats anteriors, com per exemple amortitzacions dels bens adquirits, etc.)",null,null,{"$f":"'Relació de despeses'!H106","v":0},null,"Diferència Ingressos - Despeses ",null,{"$f":"+H17-C21","v":0},{"$f":"+I17-D21","v":0}]
["Total Despeses",null,{"$f":"SUM(C8:C20)","v":0},{"$f":"SUM(D8:D20)","v":0},null,"Desviació de Despeses (4)",null,"Desviació d'ingressos (4)"]
[null,null,null,null,null,"Import"," % (6)","Import","%"]
[null,null,null,null,null,{"$f":"+D21-C21","v":0},{"$f":"IFERROR(F23/C21,0)","v":0},{"$f":"+I17-H17","v":0},{"$f":"IFERROR(H23/H17,0)","v":0}]
[]
["Explicar els motius pels quals existeix una desviació entre la despesa prevista en la sol·licitud de subvenció i la finalment realitzada , així com entre els ingressos previstos i els obtinguts."]
[]
[]
[]
[]
[]
[]
[]
[{"$f":"+'Relació de despeses'!A109:L109","v":"El Sr./Sra. (indicar el nom i cognoms de la persona representant que signa la justificació)  amb DNI/NIE (indicar el núm. DNI) en qualitat de persona física beneficiària o representant legal de la persona jurídica beneficiària (indicar nom i cognoms) amb NIF (indicar núm . NIF)."}]
["DECLARA que en relació al projecte/activitat/servei subvencionat s'han produït els ingressos i despeses que figuren en el present document, i que les desviacions respecte al pressupost inicial s'han produït per les motivacions a dalt esmentades, i perquè així consti, als efectes de justificar el compliment de l'objecte de la subvenció concedida, signo la present declaració responsable."]
[]
[]
["Població i data: ",null,{"$f":"IF('Relació de despeses'!C113<>\"\",'Relació de despeses'!C113,\"\")","v":""},null,null,"Signat digitalment"]
[]
[]
["Notes:"]
["(*)Les columnes ombrejades en color groc s'aniran emplenant automàticament a partir de les dades introduïdes en els fulls de despeses i ingressos"]
["(1) Previsió inicial o reformulació aprovada : S'ha d'indicar la previsió inicial de despeses i d'ingressos segons allò que es va indicar al projecte original en el \"pla de viabilitat econòmica del projecte - pressupost general\" . En cas que ja s'hagi aprovat una reformulació, s'han d'indicar les quantitats reformulades/modificades. "]
["(2) Despeses reals : Cost real total del projecte subvencionat. Automàticament s'introduiran els subtotals de les despeses relacionades al full Despeses-detall."]
["(3) Ingressos reals : Total d'ingressos obtinguts per a la realització del projecte subvencionat. Automàticament s'introduiran els subtotals dels ingressos relacionats al full Ingressos-detall"]
["(4) Desviació: En el cas de les despeses, la desviació és la diferència entre despeses reals i la previsió inicial de despeses; i en el cas d'ingressos, la diferència entre els ingressos reals i la previsió inicial d'ingressos. "]
["(5) % finançament municipal : percentatge que suposen les subvencions municipals (A.B.) respecte del  total d'ingressos del projecte subvencionat."]
["(6) El % de la desviació final de despeses es calcula dividint l'import resultant de despeses reals - despeses previstes, entre el total de despeses previstes i de la mateixa manera els ingressos. En cas d'existir una desviació sempre s'ha de motivar."]