{"text_format":"1","workbook":"xlsx","n_sheets":3,"sheets":["Relación de gastos","Relación de ingresos ","Resumen estado gastos-ingresos"],"not_rendered":{"charts":0,"images":0,"macros":1,"external_links":0,"defined_names":7,"comments":3,"pivot_tables":0},"unopened":[],"bounds":{"document_bytes":16777216,"sheet_cells":100000,"rows_first":2000,"rows_last":500,"rows_between":2000,"halvings":0,"cell_chars":16384,"cell_head_chars":4096},"cells_cut":0,"cells_raw":0,"read":"whole","date_system":"1900"}

{"sheet":"Relación de gastos","index":0,"n_rows":121,"n_cols":10,"rows_kept":121,"cut":false,"hidden":false,"merged":[[117,0,117,10],[118,0,118,10],[24,9,24,10],[25,9,25,10],[26,9,26,10],[35,9,35,10],[95,9,95,10],[96,9,96,10],[99,9,99,10],[100,9,100,10],[90,9,90,10],[91,9,91,10],[92,9,92,10],[93,9,93,10],[85,9,85,10],[86,9,86,10],[110,0,110,10],[82,9,82,10],[106,9,106,10],[116,0,116,10],[109,0,109,10],[52,0,52,10],[51,0,51,6],[39,9,39,10],[69,9,69,10],[120,0,120,10],[119,0,119,10],[9,9,9,10],[10,9,10,10],[11,0,11,10],[27,9,27,10],[73,0,73,10],[78,0,78,6],[72,0,72,6],[94,0,94,10],[101,0,101,10],[65,0,65,6],[59,0,59,10],[31,9,31,10],[30,9,30,10],[9,3,9,4],[84,0,84,10],[79,0,79,10],[83,0,83,6],[89,0,89,10],[66,0,66,10],[80,9,80,10],[81,9,81,10],[51,9,51,10],[3,0,3,1],[9,1,10,1],[9,0,10,0],[6,0,6,4],[106,0,106,6],[88,9,88,10],[67,9,67,10],[78,9,78,10],[77,9,77,10],[68,9,68,10],[53,9,53,10],[65,9,65,10],[64,9,64,10],[63,9,63,10],[62,9,62,10],[61,9,61,10],[60,9,60,10],[58,9,58,10],[57,9,57,10],[33,9,33,10],[32,9,32,10],[71,9,71,10],[70,9,70,10],[107,9,107,10],[107,0,107,5],[103,9,103,10],[76,9,76,10],[75,9,75,10],[72,9,72,10],[93,0,93,6],[105,9,105,10],[87,9,87,10],[97,9,97,10],[98,9,98,10],[104,9,104,10],[102,9,102,10],[83,9,83,10],[100,0,100,6],[88,0,88,6],[74,9,74,10],[0,0,0,10],[4,0,4,1],[28,0,28,6],[2,2,2,3],[3,2,3,3],[4,2,4,3],[12,9,12,10],[2,0,2,1],[58,0,58,6],[14,9,14,10],[56,9,56,10],[55,9,55,10],[54,9,54,10],[38,0,38,10],[45,0,45,10],[17,9,17,10],[16,9,16,10],[15,9,15,10],[28,9,28,10],[46,9,46,10],[44,9,44,10],[43,9,43,10],[42,9,42,10],[41,9,41,10],[2,4,2,6],[3,4,3,6],[4,4,4,6],[50,9,50,10],[49,9,49,10],[48,9,48,10],[47,9,47,10],[9,2,10,2],[13,9,13,10],[2,7,2,8],[3,7,3,8],[4,7,4,8],[21,9,21,10],[22,9,22,10],[23,9,23,10],[34,9,34,10],[40,9,40,10],[18,9,18,10],[20,9,20,10],[37,0,37,6],[44,0,44,6],[29,0,29,10],[37,9,37,10],[36,9,36,10]]}
["Relación clasificada de todos los gastos realizados para ejecutar la actividad subvencionada"]
[]
["Persona física/jurídica beneficiaria:         ",null,null,null,"Importe total del proyecto:"]
["Código de subvención:",null,null,null,"Importe de la subvención otorgada:"]
["Nombre del proyecto subvencionado:",null,null,null,"Período de ejecución del proyecto subvencionado:",null,null,null,null,"a"]
[]
["Gastos del proyecto/actividad/servicio subvencionado (*)"]
[]
[]
["núm. de orden","Número de documento: justificantes gastos personal (1), factura o recibo/tique (2)","Concepto de la factura / \ndocumento probatorio equivalente","Emisor de la factura",null,"Fecha de emisión","Importe total de la factura","Importe imputable (dedicado) al proyecto (3)","Importe imputable a la subvención municipal (4)","Observaciones"]
[null,null,null,"NIF","Nombre","dd/mm/aaaa","euros","euros","euros","(2)"]
["A. Recursos Humanos (retribuciones brutas y Seguridad Social del personal fijo o eventual contratado)"]
[{"$f":"IF(B13<>\"\",1,\"\")","v":""}]
[{"$f":"IF(B14<>\"\",MAX($A$13:A13)+1,\"\")","v":""}]
[{"$f":"IF(B15<>\"\",MAX($A$13:A14)+1,\"\")","v":""}]
[{"$f":"IF(B16<>\"\",MAX($A$13:A15)+1,\"\")","v":""}]
[{"$f":"IF(B17<>\"\",MAX($A$13:A16)+1,\"\")","v":""}]
[{"$f":"IF(B18<>\"\",MAX($A$13:A17)+1,\"\")","v":""}]
[{"$f":"IF(B19<>\"\",MAX($A$13:A18)+1,\"\")","v":""}]
[{"$f":"IF(B20<>\"\",MAX($A$13:A19)+1,\"\")","v":""}]
[{"$f":"IF(B21<>\"\",MAX($A$13:A20)+1,\"\")","v":""}]
[{"$f":"IF(B22<>\"\",MAX($A$13:A21)+1,\"\")","v":""}]
[{"$f":"IF(B23<>\"\",MAX($A$13:A22)+1,\"\")","v":""}]
[{"$f":"IF(B24<>\"\",MAX($A$13:A23)+1,\"\")","v":""}]
[{"$f":"IF(B25<>\"\",MAX($A$13:A24)+1,\"\")","v":""}]
[{"$f":"IF(B26<>\"\",MAX($A$13:A25)+1,\"\")","v":""}]
[{"$f":"IF(B27<>\"\",MAX($A$13:A26)+1,\"\")","v":""}]
[{"$f":"IF(B28<>\"\",MAX($A$13:A27)+1,\"\")","v":""}]
["Subtotal A",null,null,null,null,null,null,{"$f":"SUM(H13:H28)","v":0},{"$f":"SUM(I13:I28)","v":0}]
["B. Alquileres (materiales, infraestructuras, locales, etc.)"]
[{"$f":"IF(B31<>\"\",MAX($A$13:A30)+1,\"\")","v":""}]
[{"$f":"IF(B32<>\"\",MAX($A$30:A31)+1,\"\")","v":""}]
[{"$f":"IF(B33<>\"\",MAX($A$30:A32)+1,\"\")","v":""}]
[{"$f":"IF(B34<>\"\",MAX($A$30:A33)+1,\"\")","v":""}]
[{"$f":"IF(B35<>\"\",MAX($A$30:A34)+1,\"\")","v":""}]
[{"$f":"IF(B36<>\"\",MAX($A$30:A35)+1,\"\")","v":""}]
[{"$f":"IF(B37<>\"\",MAX($A$30:A36)+1,\"\")","v":""}]
["Subtotal B",null,null,null,null,null,null,{"$f":"SUM(H31:H37)","v":0},{"$f":"SUM(I31:I37)","v":0}]
["C. Suministros (luz, agua, gas, etc.)"]
[{"$f":"IF(B40<>\"\",MAX($A$13:A39)+1,\"\")","v":""}]
[{"$f":"IF(B41<>\"\",MAX($A$30:A40)+1,\"\")","v":""}]
[{"$f":"IF(B42<>\"\",MAX($A$30:A41)+1,\"\")","v":""}]
[{"$f":"IF(B43<>\"\",MAX($A$30:A42)+1,\"\")","v":""}]
[{"$f":"IF(B44<>\"\",MAX($A$30:A43)+1,\"\")","v":""}]
["Subtotal C",null,null,null,null,null,null,{"$f":"SUM(H40:H44)","v":0},{"$f":"SUM(I40:I44)","v":0}]
["D. Comunicaciones (teléfono, correo, etc.)"]
[{"$f":"IF(B47<>\"\",MAX($A$13:A46)+1,\"\")","v":""}]
[{"$f":"IF(B48<>\"\",MAX($A$30:A47)+1,\"\")","v":""}]
[{"$f":"IF(B49<>\"\",MAX($A$30:A48)+1,\"\")","v":""}]
[{"$f":"IF(B50<>\"\",MAX($A$30:A49)+1,\"\")","v":""}]
[{"$f":"IF(B51<>\"\",MAX($A$30:A50)+1,\"\")","v":""}]
["Subtotal D",null,null,null,null,null,null,{"$f":"SUM(H47:H51)","v":0},{"$f":"SUM(I47:I51)","v":0}]
["E. Mantenimiento de edificios y/o instalaciones"]
[{"$f":"IF(B54<>\"\",MAX($A$13:A53)+1,\"\")","v":""}]
[{"$f":"IF(B55<>\"\",MAX($A$30:A54)+1,\"\")","v":""}]
[{"$f":"IF(B56<>\"\",MAX($A$30:A55)+1,\"\")","v":""}]
[{"$f":"IF(B57<>\"\",MAX($A$30:A56)+1,\"\")","v":""}]
[{"$f":"IF(B58<>\"\",MAX($A$30:A57)+1,\"\")","v":""}]
["Subtotal E",null,null,null,null,null,null,{"$f":"SUM(H54:H58)","v":0},{"$f":"SUM(I54:I58)","v":0}]
["F. Adquisición de material fungible (de oficina, etc.)"]
[{"$f":"IF(B61<>\"\",MAX($A$13:A60)+1,\"\")","v":""}]
[{"$f":"IF(B62<>\"\",MAX($A$30:A61)+1,\"\")","v":""}]
[{"$f":"IF(B63<>\"\",MAX($A$30:A62)+1,\"\")","v":""}]
[{"$f":"IF(B64<>\"\",MAX($A$30:A63)+1,\"\")","v":""}]
[{"$f":"IF(B65<>\"\",MAX($A$30:A64)+1,\"\")","v":""}]
["Subtotal F",null,null,null,null,null,null,{"$f":"SUM(H61:H65)","v":0},{"$f":"SUM(I61:I65)","v":0}]
["G. Transporte y mensajería"]
[{"$f":"IF(B68<>\"\",MAX($A$13:A67)+1,\"\")","v":""}]
[{"$f":"IF(B69<>\"\",MAX($A$30:A68)+1,\"\")","v":""}]
[{"$f":"IF(B70<>\"\",MAX($A$30:A69)+1,\"\")","v":""}]
[{"$f":"IF(B71<>\"\",MAX($A$30:A70)+1,\"\")","v":""}]
[{"$f":"IF(B72<>\"\",MAX($A$30:A71)+1,\"\")","v":""}]
["Subtotal G",null,null,null,null,null,null,{"$f":"SUM(H68:H72)","v":0},{"$f":"SUM(I68:I72)","v":0}]
["H. Publicidad y propaganda"]
[{"$f":"IF(B75<>\"\",MAX($A$13:A74)+1,\"\")","v":""}]
[{"$f":"IF(B76<>\"\",MAX($A$30:A75)+1,\"\")","v":""}]
[{"$f":"IF(B77<>\"\",MAX($A$30:A76)+1,\"\")","v":""}]
[{"$f":"IF(B78<>\"\",MAX($A$30:A77)+1,\"\")","v":""}]
["Subtotal H",null,null,null,null,null,null,{"$f":"SUM(H75:H78)","v":0},{"$f":"SUM(I75:I78)","v":0}]
["I. Seguros"]
[{"$f":"IF(B81<>\"\",MAX($A$13:A80)+1,\"\")","v":""}]
[{"$f":"IF(B82<>\"\",MAX($A$30:A81)+1,\"\")","v":""}]
[{"$f":"IF(B83<>\"\",MAX($A$30:A82)+1,\"\")","v":""}]
["Subtotal I",null,null,null,null,null,null,{"$f":"SUM(H81:H83)","v":0},{"$f":"SUM(I81:I83)","v":0}]
["J. Alojamiento y dietas (2)"]
[{"$f":"IF(B86<>\"\",MAX($A$13:A85)+1,\"\")","v":""}]
[{"$f":"IF(B87<>\"\",MAX($A$30:A86)+1,\"\")","v":""}]
[{"$f":"IF(B88<>\"\",MAX($A$30:A87)+1,\"\")","v":""}]
["Subtotal J",null,null,null,null,null,null,{"$f":"SUM(H86:H88)","v":0},{"$f":"SUM(I86:I88)","v":0}]
["K. Viajes y desplazamientos (2)"]
[{"$f":"IF(B91<>\"\",MAX($A$13:A90)+1,\"\")","v":""}]
[{"$f":"IF(B92<>\"\",MAX($A$30:A91)+1,\"\")","v":""}]
[{"$f":"IF(B93<>\"\",MAX($A$30:A92)+1,\"\")","v":""}]
["Subtotal K",null,null,null,null,null,null,{"$f":"SUM(H91:H93)","v":0},{"$f":"SUM(I91:I93)","v":0}]
["L. Trabajos realizados por empresas externas (limpieza, seguridad, otros trabajos directamente relacionados con la actividad y/o el proyecto)"]
[{"$f":"IF(B96<>\"\",MAX($A$13:A95)+1,\"\")","v":""}]
[{"$f":"IF(B97<>\"\",MAX($A$30:A96)+1,\"\")","v":""}]
[{"$f":"IF(B98<>\"\",MAX($A$30:A97)+1,\"\")","v":""}]
[{"$f":"IF(B99<>\"\",MAX($A$30:A98)+1,\"\")","v":""}]
[{"$f":"IF(B100<>\"\",MAX($A$30:A99)+1,\"\")","v":""}]
["Subtotal L",null,null,null,null,null,null,{"$f":"SUM(H96:H100)","v":0},{"$f":"SUM(I96:I100)","v":0}]
["M. Otros gastos (a especificar)"]
[{"$f":"IF(B103<>\"\",MAX($A$13:A102)+1,\"\")","v":""}]
[{"$f":"IF(B104<>\"\",MAX($A$30:A103)+1,\"\")","v":""}]
[{"$f":"IF(B105<>\"\",MAX($A$30:A104)+1,\"\")","v":""}]
[{"$f":"IF(B106<>\"\",MAX($A$30:A105)+1,\"\")","v":""}]
["Subtotal M",null,null,null,null,null,null,{"$f":"SUM(H103:H106)","v":0},{"$f":"SUM(I103:I106)","v":0}]
["TOTAL GASTOS",null,null,null,null,null,"TOTAL",{"$f":"+H29+H38+H45+H52+H59+H66+H73+H79+H84+H89+H94+H101+H107","v":0},{"$f":"+I29+I38+I45+I52+I59+I66+I73+I79+I84+I89+I94+I101+I107","v":0}]
[]
["El Sr./La Sra. (indíquense el nombre y los apellidos de la persona representante que firma la justificación)  con DNI/NIE (indíquese el núm. de DNI) en calidad de persona física beneficiaria o representante legal de la persona jurídica beneficiaria (indíquense el nombre y los apellidos) con NIF (indíquese el núm. de NIF)."]
["CERTIFICA que los recibos/tiques que se han identificado como tales en el campo de observaciones corresponden a gastos generados por la actividad mencionada que, por sus importes y características, no han podido ser objecto de factura; que los justificantes relacionados imputados al proyecto/actividad/servicio subvencionado durante su período de ejecución se han pagado realmente; que custodiará la documentación de apoyo que lo acredita; que esta documentación se encuentra a disposición del Ayuntamiento de Barcelona o de los demás entes municipales en los archivos de esta entidad durante un período mínimo de 4 años a contar desde la fecha de haberse presentado esta justificación."]
[]
[]
[null,"Población y fecha:  ",null,null,null,"Firmado digitalmente"]
[]
["Notas:"]
["(*)  Se tienen que relacionar todos los gastos del proyecto/actividad/servicio subvencionado. En caso de que el número de filas de cada concepto sea insuficiente, puede insertar líneas dentro del mismo concepto seleccionando una celda verde y clicando sobre el botón de insertar línea."]
["(1) Respecto a los gastos de recursos humanos, se puede subvencionar el coste total salarial mensual, que corresponde a la suma de la retribución neta que aparece en la nómina de la persona trabajadora más la cuota de la empresa a la Seg. Social y el IRPF. Los gastos de personal se justifican con la nómina del trabajador acompañada de los correspondientes RNT y RLC de la TGSS y el modelo 111 del IRPF."]
["(2) En caso de que el documento justificativo del resto de los gastos no sea una factura, sino otro documento probatorio equivalente, como, por ejemplo, un recibo o justificante (p. ej., para dietas o transporte público), indíquese en el campo de observaciones."]
["(3) En caso de que un justificante incluya conceptos que no tienen nada que ver con el proyecto/actividad/servicio para el que se ha otorgado la subvención, aquí solo se tiene que consignar la parte que realmente se ha dedicado al proyecto."]
["(4) En esta columna se tiene que indicar el importe total o parcial de la factura que se imputa a la subvención recibida del ICUB. El total imputado en esta columna tiene que ser igual al importe de la subvención recibida."]

{"sheet":"Relación de ingresos ","index":1,"n_rows":93,"n_cols":10,"rows_kept":93,"cut":false,"hidden":false,"merged":[[88,5,88,6],[88,2,88,3],[13,6,13,9],[14,6,14,9],[28,6,28,9],[50,6,50,9],[67,6,67,9],[57,6,57,9],[22,6,22,9],[21,6,21,9],[20,6,20,9],[19,6,19,9],[18,6,18,9],[40,6,40,9],[53,6,53,9],[52,6,52,9],[51,6,51,9],[49,6,49,9],[30,0,30,3],[62,6,62,9],[61,6,61,9],[38,6,38,9],[23,0,23,3],[54,0,54,9],[56,6,56,9],[55,6,55,9],[36,6,36,9],[35,6,35,9],[30,6,30,9],[29,6,29,9],[27,6,27,9],[26,6,26,9],[25,6,25,9],[42,6,42,9],[32,6,32,9],[44,6,44,9],[43,6,43,9],[34,6,34,9],[0,0,0,9],[9,0,9,9],[17,0,17,9],[24,0,24,9],[7,6,8,9],[10,6,10,9],[11,6,11,9],[7,0,8,0],[12,6,12,9],[15,6,15,9],[3,2,3,3],[2,2,2,3],[6,0,6,3],[4,2,4,3],[7,2,7,3],[16,0,16,3],[7,1,8,1],[48,6,48,9],[47,6,47,9],[46,6,46,9],[63,0,63,9],[37,6,37,9],[41,6,41,9],[53,0,53,3],[31,0,31,9],[39,0,39,9],[45,0,45,9],[44,0,44,3],[38,0,38,3],[16,6,16,9],[23,6,23,9],[33,6,33,9],[70,0,70,9],[58,6,58,9],[69,6,69,9],[71,6,71,9],[69,0,69,3],[62,0,62,3],[60,6,60,9],[68,6,68,9],[66,6,66,9],[65,6,65,9],[64,6,64,9],[83,0,83,3],[82,0,82,3],[85,0,85,9],[86,0,86,9],[82,6,82,9],[81,6,81,9],[77,6,77,9],[75,6,75,9],[72,6,72,9],[83,6,83,9],[73,6,73,9],[74,6,74,9],[76,6,76,9],[78,6,78,9],[79,6,79,9],[80,6,80,9]]}
["Detalle de todos los ingresos obtenidos y las aportaciones del propio beneficiario para ejecutar la actividad subvencionada"]
[]
[null,"Nombre de la persona física/jurídica beneficiaria:        ",{"$f":"IF('Relación de gastos'!C3:D3<>\"\",'Relación de gastos'!C3:D3,\"\")","v":""},null,"Importe total del proyecto:",null,null,{"$f":"IF(+'Relación de gastos'!H3=\"\",\"\",+'Relación de gastos'!H3)","v":""}]
[null,"Código de subvención:",{"$f":"IF('Relación de gastos'!C4:D4<>\"\",'Relación de gastos'!C4:D4,\"\")","v":""},null,"Importe de la subvención otorgada:",null,null,{"$f":"IF(+'Relación de gastos'!H4=\"\",\"\",+'Relación de gastos'!H4)","v":""}]
[null,"Nombre del proyecto subvencionado:",{"$f":"IF('Relación de gastos'!C5:D5<>\"\",'Relación de gastos'!C5:D5,\"\")","v":""},null,"Período de ejecución del proyecto subvencionado:",null,null,{"$f":"IF(+'Relación de gastos'!H5=\"\",\"\",+'Relación de gastos'!H5)","v":""},"a",{"$f":"IF(+'Relación de gastos'!K5=\"\",\"\",+'Relación de gastos'!K5)","v":""}]
[]
["Ingresos del proyecto/actividad/servicio subvencionado*"]
["núm. de orden ","Concepto del ingreso","Emisor del ingreso",null,"Fecha de cobro\n(dd/mm/aaaa)","Importe","Observaciones"]
[null,null,"NIF","Nom","(1)","euros"]
["A.B. Subvenciones del Ayuntamiento de Barcelona"]
[{"$f":"IF(B11<>\"\",1,\"\")","v":""}]
[]
[]
[]
[{"$f":"IF(B15<>\"\",MAX($A$10:A14)+1,\"\")","v":""}]
[{"$f":"IF(B16<>\"\",MAX($A$10:A15)+1,\"\")","v":""}]
[null,null,null,null,"Subtotal A",{"$f":"SUM(F11:F16)","v":0}]
["C. Subvenciones de otras administraciones"]
[{"$f":"IF(B19<>\"\",MAX($A$10:A18)+1,\"\")","v":""}]
[{"$f":"IF(B20<>\"\",MAX($A$10:A19)+1,\"\")","v":""}]
[{"$f":"IF(B21<>\"\",MAX($A$10:A20)+1,\"\")","v":""}]
[{"$f":"IF(B22<>\"\",MAX($A$10:A21)+1,\"\")","v":""}]
[{"$f":"IF(B23<>\"\",MAX($A$10:A22)+1,\"\")","v":""}]
[null,null,null,null,"Subtotal B",{"$f":"SUM(F19:F23)","v":0}]
["D. Aportaciones de entes privados"]
[{"$f":"IF(B26<>\"\",MAX($A$10:A25)+1,\"\")","v":""}]
[{"$f":"IF(B27<>\"\",MAX($A$10:A26)+1,\"\")","v":""}]
[{"$f":"IF(B28<>\"\",MAX($A$10:A27)+1,\"\")","v":""}]
[{"$f":"IF(B29<>\"\",MAX($A$10:A28)+1,\"\")","v":""}]
[{"$f":"IF(B30<>\"\",MAX($A$10:A29)+1,\"\")","v":""}]
[null,null,null,null,"Subtotal C",{"$f":"SUM(F26:F30)","v":0}]
["E. Recursos propios de la entidad"]
[{"$f":"IF(B33<>\"\",MAX($A$10:A32)+1,\"\")","v":""}]
[{"$f":"IF(B34<>\"\",MAX($A$10:A33)+1,\"\")","v":""}]
[{"$f":"IF(B35<>\"\",MAX($A$10:A34)+1,\"\")","v":""}]
[{"$f":"IF(B36<>\"\",MAX($A$10:A35)+1,\"\")","v":""}]
[{"$f":"IF(B37<>\"\",MAX($A$10:A36)+1,\"\")","v":""}]
[{"$f":"IF(B38<>\"\",MAX($A$10:A37)+1,\"\")","v":""}]
[null,null,null,null,"Subtotal D",{"$f":"SUM(F33:F38)","v":0}]
["F. Taquillaje"]
[{"$f":"IF(B41<>\"\",MAX($A$10:A40)+1,\"\")","v":""}]
[{"$f":"IF(B42<>\"\",MAX($A$10:A41)+1,\"\")","v":""}]
[{"$f":"IF(B43<>\"\",MAX($A$10:A42)+1,\"\")","v":""}]
[{"$f":"IF(B44<>\"\",MAX($A$10:A43)+1,\"\")","v":""}]
[null,null,null,null,"Subtotal E",{"$f":"SUM(F41:F44)","v":0}]
["G. Cuotas de inscripción"]
[{"$f":"IF(B47<>\"\",MAX($A$10:A46)+1,\"\")","v":""}]
[{"$f":"IF(B48<>\"\",MAX($A$10:A47)+1,\"\")","v":""}]
[{"$f":"IF(B49<>\"\",MAX($A$10:A48)+1,\"\")","v":""}]
[{"$f":"IF(B50<>\"\",MAX($A$10:A49)+1,\"\")","v":""}]
[{"$f":"IF(B51<>\"\",MAX($A$10:A50)+1,\"\")","v":""}]
[{"$f":"IF(B52<>\"\",MAX($A$10:A51)+1,\"\")","v":""}]
[{"$f":"IF(B53<>\"\",MAX($A$10:A52)+1,\"\")","v":""}]
[null,null,null,null,"Subtotal F",{"$f":"SUM(F47:F53)","v":0}]
["H. Venta de productos"]
[{"$f":"IF(B56<>\"\",MAX($A$10:A55)+1,\"\")","v":""}]
[{"$f":"IF(B57<>\"\",MAX($A$10:A56)+1,\"\")","v":""}]
[{"$f":"IF(B58<>\"\",MAX($A$10:A57)+1,\"\")","v":""}]
[{"$f":"IF(B59<>\"\",MAX($A$10:A58)+1,\"\")","v":""}]
[{"$f":"IF(B60<>\"\",MAX($A$10:A59)+1,\"\")","v":""}]
[{"$f":"IF(B61<>\"\",MAX($A$10:A60)+1,\"\")","v":""}]
[{"$f":"IF(B62<>\"\",MAX($A$10:A61)+1,\"\")","v":""}]
[null,null,null,null,"Subtotal G",{"$f":"SUM(F56:F62)","v":0}]
["I. Publicidad y/o patrocinio"]
[{"$f":"IF(B65<>\"\",MAX($A$10:A64)+1,\"\")","v":""}]
[{"$f":"IF(B66<>\"\",MAX($A$10:A65)+1,\"\")","v":""}]
[{"$f":"IF(B67<>\"\",MAX($A$10:A66)+1,\"\")","v":""}]
[{"$f":"IF(B68<>\"\",MAX($A$10:A67)+1,\"\")","v":""}]
[{"$f":"IF(B69<>\"\",MAX($A$10:A68)+1,\"\")","v":""}]
[null,null,null,null,"Subtotal H",{"$f":"SUM(F65:F69)","v":0}]
["J. Otros ingresos"]
[{"$f":"IF(B72<>\"\",MAX($A$10:A71)+1,\"\")","v":""}]
[{"$f":"IF(B73<>\"\",MAX($A$10:A72)+1,\"\")","v":""}]
[{"$f":"IF(B74<>\"\",MAX($A$10:A73)+1,\"\")","v":""}]
[{"$f":"IF(B75<>\"\",MAX($A$10:A74)+1,\"\")","v":""}]
[{"$f":"IF(B76<>\"\",MAX($A$10:A75)+1,\"\")","v":""}]
[{"$f":"IF(B77<>\"\",MAX($A$10:A76)+1,\"\")","v":""}]
[{"$f":"IF(B78<>\"\",MAX($A$10:A77)+1,\"\")","v":""}]
[{"$f":"IF(B79<>\"\",MAX($A$10:A78)+1,\"\")","v":""}]
[{"$f":"IF(B80<>\"\",MAX($A$10:A79)+1,\"\")","v":""}]
[{"$f":"IF(B81<>\"\",MAX($A$10:A80)+1,\"\")","v":""}]
[{"$f":"IF(B82<>\"\",MAX($A$10:A81)+1,\"\")","v":""}]
[null,null,null,null,"Subtotal I",{"$f":"SUM(F72:F82)","v":0}]
["Total INGRESOS",null,null,null,"TOTAL",{"$f":"+F17+F24+F31+F39+F45+F54+F63+F70+F83","v":0}]
[]
[{"$f":"'Relación de gastos'!A110:K110","v":"El Sr./La Sra. (indíquense el nombre y los apellidos de la persona representante que firma la justificación)  con DNI/NIE (indíquese el núm. de DNI) en calidad de persona física beneficiaria o representante legal de la persona jurídica beneficiaria (indíquense el nombre y los apellidos) con NIF (indíquese el núm. de NIF)."}]
["CERTIFICA que los ingresos imputados al proyecto/actividad/servicio subvencionado se han ingresado realmente; que custodiará la documentación de apoyo que lo acredita; que esta documentación se encuentra a disposición del Ayuntamiento de Barcelona o de los demás entes municipales en los archivos de esta entidad durante un período mínimo de 4 años a contar desde la fecha de haberse presentado esta justificación."]
[]
[null,"Población y fecha ",{"$f":"IF('Relación de gastos'!C114<>\"\",'Relación de gastos'!C114,\"\")","v":""},null,null,"Firmado digitalmente"]
[]
[null,"Nota:"]
[null,"(*) Las columnas marcadas en amarillo se irán rellenando automáticamente a partir de los datos introducidos en la hoja de gastos."]
[null,"(1) En caso de que el ingreso esté pendiente de cobro, indíquese \"P. Cobro\"."]

{"sheet":"Resumen estado gastos-ingresos","index":2,"n_rows":47,"n_cols":11,"rows_kept":47,"cut":false,"hidden":false,"merged":[[2,0,2,1],[3,0,3,1],[2,5,2,6],[3,5,3,6],[6,5,6,6],[2,2,2,3],[3,2,3,3],[4,2,4,3],[4,0,4,1],[6,0,6,1],[7,5,7,6],[8,5,8,6],[9,5,9,6],[10,5,10,6],[5,5,5,8],[11,5,11,6],[5,0,5,3],[20,7,20,8],[12,5,12,6],[13,5,13,6],[14,5,14,6],[15,5,15,6],[19,5,19,6],[17,5,17,6],[16,5,16,6],[7,0,7,1],[8,0,8,1],[9,0,9,1],[20,5,20,6],[20,0,20,1],[15,0,15,1],[46,0,46,10],[41,0,41,10],[42,0,42,10],[43,0,43,10],[44,0,44,10],[45,0,45,10],[24,0,24,8],[25,0,31,10],[32,0,32,10],[33,0,34,10],[36,0,36,1],[16,0,16,1],[17,0,17,1],[18,0,18,1],[19,0,19,1],[10,0,10,1],[11,0,11,1],[12,0,12,1],[13,0,13,1],[14,0,14,1]]}
["Estado de los gastos realizados y de los ingresos obtenidos para ejecutar la actividad subvencionada (*)"]
[]
["Nombre de la persona física/jurídica beneficiaria:         ",null,{"$f":"IF('Relación de gastos'!C3:D3<>\"\",'Relación de gastos'!C3:D3,\"\")","v":""},null,null,"Importe total del proyecto:",null,{"$f":"IF(+'Relación de gastos'!H3=\"\",\"\",+'Relación de gastos'!H3)","v":""}]
["Código de subvención:",null,{"$f":"IF('Relación de gastos'!C4:D4<>\"\",'Relación de gastos'!C4:D4,\"\")","v":""},null,null,"Importe de la subvención otorgada:",null,{"$f":"IF(+'Relación de gastos'!H4=\"\",\"\",+'Relación de gastos'!H4)","v":""}]
["Nombre del proyecto subvencionado:",null,{"$f":"IF('Relación de gastos'!C5:D5<>\"\",'Relación de gastos'!C5:D5,\"\")","v":""},null,null,"Período de ejecución del proyecto subvencionado:",null,null,{"$f":"IF(+'Relación de gastos'!H5=\"\",\"\",+'Relación de gastos'!H5)","v":""},"a",{"$f":"IF(+'Relación de gastos'!K5=\"\",\"\",+'Relación de gastos'!K5)","v":""}]
["Gastos del proyecto/actividad/servicio subvencionado",null,null,null,null,"Ingresos del proyecto/actividad/servicio subvencionado"]
["Concepto",null,"Previsión inicial o reformulación/\nmodificación aprobada (1)","Gastos realizados\n(2)",null,"Concepto",null,"Previsión inicial o reformulación/\nmodificación aprobada (1)","Ingresos obtenidos\n(3)"]
["A. Recursos Humanos \n(Nómina y Seguridad Social del personal fijo y eventual)",null,null,{"$f":"'Relación de gastos'!H29","v":0},null,"A.B. Subvenciones municipales (en total)",null,null,{"$f":"'Relación de ingresos '!F17","v":0}]
["B. Alquileres \n(de materiales, locales,  infraestructuras, etc.)",null,null,{"$f":"'Relación de gastos'!H38","v":0},null,"C. Subvenciones de otras administraciones",null,null,{"$f":"'Relación de ingresos '!F24","v":0}]
["C. Suministros \n(electricidad, agua, gas, etc.)",null,null,{"$f":"'Relación de gastos'!H45","v":0},null,"D. Aportaciones de entes privados",null,null,{"$f":"'Relación de ingresos '!F31","v":0}]
["D. Comunicaciones (teléfono, correo, mensajería, etc.)",null,null,{"$f":"'Relación de gastos'!H52","v":0},null,"E. Recursos propios",null,null,{"$f":"'Relación de ingresos '!F39","v":0}]
["E. Mantenimiento de edificios y/o instalaciones",null,null,{"$f":"'Relación de gastos'!H59","v":0},null,"F. Taquillaje",null,null,{"$f":"'Relación de ingresos '!F45","v":0}]
["F. Adquisición de material fungible\n(de oficina, etc.)",null,null,{"$f":"'Relación de gastos'!H66","v":0},null,"G. Cuotas de inscripción",null,null,{"$f":"'Relación de ingresos '!F54","v":0}]
["G. Transporte y mensajería",null,null,{"$f":"'Relación de gastos'!H73","v":0},null,"H. Venta de productos",null,null,{"$f":"'Relación de ingresos '!F63","v":0}]
["H. Publicidad y propaganda",null,null,{"$f":"'Relación de gastos'!H79","v":0},null,"I. Publicidad y/o patrocinio",null,null,{"$f":"'Relación de ingresos '!F70","v":0}]
["I. Seguros",null,null,{"$f":"'Relación de gastos'!H84","v":0},null,"J. Otros ingresos",null,null,{"$f":"'Relación de ingresos '!F83","v":0}]
["J. Alojamiento y dietas",null,null,{"$f":"'Relación de gastos'!H89","v":0},null,"Total Ingresos",null,{"$f":"SUM(H8:H16)","v":0},{"$f":"SUM(I8:I16)","v":0}]
["K. Viajes y desplazamientos",null,null,{"$f":"'Relación de gastos'!H94","v":0},null,"% financiación municipal (5)",null,{"$f":"IF(H8=\"\",\"- %\",+H8/H17)","v":"- %"},{"$f":"IFERROR(IF(I8=\"\",\"- %\",I8/I17),\"-%\")","v":"-%"}]
["L. Trabajos realizados por empresas externas\n",null,null,{"$f":"'Relación de gastos'!H101","v":0},null,null,null,"Previsión inicial","Real"]
["M. Otros gastos (no incluidos en ninguno de los apartados anteriores, como, por ejemplo, amortizaciones de los bienes adquiridos, etc.)",null,null,{"$f":"'Relación de gastos'!H107","v":0},null,"Diferencia Ingresos - Gastos ",null,{"$f":"+H17-C21","v":0},{"$f":"+I17-D21","v":0}]
["Total gastos",null,{"$f":"SUM(C8:C20)","v":0},{"$f":"SUM(D8:D20)","v":0},null,"Desviación de gastos (4)",null,"Desviación de ingresos (4)"]
[null,null,null,null,null,"Importe"," % (6)","Importe","%"]
[null,null,null,null,null,{"$f":"+D21-C21","v":0},{"$f":"IFERROR(F23/C21,0)","v":0},{"$f":"+I17-H17","v":0},{"$f":"IFERROR(H23/H17,0)","v":0}]
[]
["Explique los motivos por los que existe una desviación entre el gasto previsto en la solicitud de subvención y el realizado finalmente, así como entre los ingresos previstos y los obtenidos."]
[]
[]
[]
[]
[]
[]
[]
[{"$f":"+'Relación de gastos'!A110:L110","v":"El Sr./La Sra. (indíquense el nombre y los apellidos de la persona representante que firma la justificación)  con DNI/NIE (indíquese el núm. de DNI) en calidad de persona física beneficiaria o representante legal de la persona jurídica beneficiaria (indíquense el nombre y los apellidos) con NIF (indíquese el núm. de NIF)."}]
["DECLARA que en relación con el proyecto/actividad/servicio subvencionado, se han producido los ingresos y los gastos que figuran en el presente documento, y que las desviaciones respecto del presupuesto inicial se han producido por los motivos mencionados arriba, y para que así conste, a efectos de justificar el cumplimiento del objecto de la subvención concedida, firma la presente declaración responsable."]
[]
[]
["Población y fecha ",null,{"$f":"IF('Relación de gastos'!C114<>\"\",'Relación de gastos'!C114,\"\")","v":""},null,null,"Firmado digitalmente"]
[]
[]
["Notas:"]
["(*) Las columnas marcadas en amarillo se irán rellenando automáticamente a partir de los datos introducidos en las hojas de gastos e ingresos."]
["(1) Previsión inicial o reformulación/modificación aprobada : Se tiene que indicar la previsión inicial de gastos y de ingresos según lo que se señaló en el proyecto original en el \"plan de viabilidad económica del proyecto - presupuesto general\". En caso de que ya se haya aprobado una reformulación/modificación, se tienen que indicar las cantidades reformuladas/modificadas. "]
["(2) Gastos reales : Coste real total del proyecto subvencionado. Los subtotales de los gastos relacionados en la hoja Relación de gastos se introducirán automáticamente."]
["(3) Ingresos reales : Total de ingresos obtenidos para realizar el proyecto subvencionado. Los subtotales de los ingresos relacionados en la hoja Relación de ingresos  se introducirán automáticamente."]
["(4) Desviación: En el caso de los gastos, la desviación es la diferencia entre gastos reales y la previsión inicial de gastos; en el caso de los ingresos, la diferencia entre los ingresos reales y la previsión inicial de ingresos. "]
["(5) % financiación municipal : porcentaje que suponen las subvenciones municipales (A.B.) respecto del  total de ingresos del proyecto subvencionado."]
["(6) El % de la desviación final de gastos se calcula dividiendo el importe resultante de gastos reales - gastos previstos, entre el total de gastos previstos; análogamente se calcula la desviación por lo que se refiere a los ingresos. En caso de que haya desviación, siempre se tiene que motivar."]